View In:
ArcGIS JavaScript
ArcGIS Online Map Viewer
ArcGIS Earth
ArcMap
View Footprint In:
ArcGIS Online Map Viewer
Service Description: Niagara Soils, 1989
Name: NiagaraSoils1989/NiagaraSoils7geo
Description: Niagara Soils, 1989
Single Fused Map Cache: false
Extent:
XMin: 638609.7656563615
YMin: 4740735.897793181
XMax: 672828.8908993615
YMax: 4764094.1987051815
Spatial Reference: 26917
(26917)
Initial Extent:
XMin: 638609.7656563615
YMin: 4740735.897793181
XMax: 672828.8908993615
YMax: 4764094.1987051815
Spatial Reference: 26917
(26917)
Full Extent:
XMin: 638609.7656563615
YMin: 4740735.897793181
XMax: 672828.8908993615
YMax: 4764094.1987051815
Spatial Reference: 26917
(26917)
Pixel Size X: 2.182202999999999
Pixel Size Y: 2.182203000000022
Band Count: 3
Pixel Type: U16
RasterFunction Infos: {"rasterFunctionInfos": [{
"name": "None",
"description": "",
"help": ""
}]}
Mensuration Capabilities: Basic
Has Histograms: true
Has Colormap: false
Has Multi Dimensions : false
Rendering Rule:
Min Scale: 0
Max Scale: 0
Copyright Text:
Service Data Type: esriImageServiceDataTypeGeneric
Min Values: 35, 45, 33
Max Values: 255, 255, 255
Mean Values: 238.74138521377, 243.72115866839, 247.81123638421
Standard Deviation Values: 28.654337235125, 24.704529717693, 21.673184568175
Object ID Field:
Fields:
None
Default Mosaic Method: Center
Allowed Mosaic Methods:
SortField:
SortValue: null
Mosaic Operator: First
Default Compression Quality: 75
Default Resampling Method: Bilinear
Max Record Count: null
Max Image Height: 4100
Max Image Width: 15000
Max Download Image Count: null
Max Mosaic Image Count: null
Allow Raster Function: true
Allow Copy: true
Allow Analysis: true
Allow Compute TiePoints: false
Supports Statistics: false
Supports Advanced Queries: false
Use StandardizedQueries: true
Raster Type Infos:
Name: Raster Dataset
Description: Supports all ArcGIS Raster Datasets
Help:
Has Raster Attribute Table: false
Edit Fields Info: null
Ownership Based AccessControl For Rasters: null
Child Resources:
Info
Histograms
Statistics
Key Properties
Legend
Raster Function Infos
Supported Operations:
Export Image
Identify
Measure
Compute Histograms
Compute Statistics Histograms
Get Samples
Compute Class Statistics
Query Boundary
Compute Pixel Location
Compute Angles
Validate
Project