View In:
ArcGIS JavaScript
ArcGIS Online Map Viewer
ArcGIS Earth
ArcMap
View Footprint In:
ArcGIS Online Map Viewer
Service Description: Map date: 1937 Scale 1:25,000 "No. 507"--bottom left margin. Relief shown by contours. Digital reproduction of map (63 x 79 cm.) in the Brock University Map, Data & GIS Library collection. Relief shown by contours. Georeferenced and modified from Brock call# G 3464 S35 1937 C35 by Map, Data and GIS Library, Brock University.
Name: NiagaraTopos/NOTLStC25k1937
Description: Map date: 1937 Scale 1:25,000 "No. 507"--bottom left margin. Relief shown by contours. Digital reproduction of map (63 x 79 cm.) in the Brock University Map, Data & GIS Library collection. Relief shown by contours. Georeferenced and modified from Brock call# G 3464 S35 1937 C35 by Map, Data and GIS Library, Brock University.
Single Fused Map Cache: false
Extent:
XMin: -8827603.804492671
YMin: 5331769.8648830205
XMax: -8796878.44937767
YMax: 5354976.775883021
Spatial Reference: 102100
(3857)
Initial Extent:
XMin: -8827603.804492671
YMin: 5331769.8648830205
XMax: -8796878.44937767
YMax: 5354976.775883021
Spatial Reference: 102100
(3857)
Full Extent:
XMin: -8827603.804492671
YMin: 5331769.8648830205
XMax: -8796878.44937767
YMax: 5354976.775883021
Spatial Reference: 102100
(3857)
Pixel Size X: 2.9752450000000152
Pixel Size Y: 2.97524500000004
Band Count: 3
Pixel Type: U16
RasterFunction Infos: {"rasterFunctionInfos": [{
"name": "None",
"description": "",
"help": ""
}]}
Mensuration Capabilities: Basic
Has Histograms: false
Has Colormap: false
Has Multi Dimensions : false
Rendering Rule:
Min Scale: 0
Max Scale: 0
Copyright Text: Map, Data & GIS Library, Brock University.
Service Data Type: esriImageServiceDataTypeGeneric
Min Values: 0, 0, 0
Max Values: 255, 255, 255
Mean Values: 204.85487755331, 192.31790952052, 178.55697143031
Standard Deviation Values: 36.635524153918, 34.341225153793, 31.13914366389
Object ID Field:
Fields:
None
Default Mosaic Method: Center
Allowed Mosaic Methods:
SortField:
SortValue: null
Mosaic Operator: First
Default Compression Quality: 75
Default Resampling Method: Bilinear
Max Record Count: null
Max Image Height: 4100
Max Image Width: 15000
Max Download Image Count: null
Max Mosaic Image Count: null
Allow Raster Function: true
Allow Copy: true
Allow Analysis: true
Allow Compute TiePoints: false
Supports Statistics: false
Supports Advanced Queries: false
Use StandardizedQueries: true
Raster Type Infos:
Name: Raster Dataset
Description: Supports all ArcGIS Raster Datasets
Help:
Has Raster Attribute Table: false
Edit Fields Info: null
Ownership Based AccessControl For Rasters: null
Child Resources:
Info
Statistics
Key Properties
Legend
Raster Function Infos
Supported Operations:
Export Image
Identify
Measure
Compute Histograms
Compute Statistics Histograms
Get Samples
Compute Class Statistics
Query Boundary
Compute Pixel Location
Compute Angles
Validate
Project