View In:
ArcGIS JavaScript
ArcGIS Online Map Viewer
ArcGIS Earth
ArcMap
View Footprint In:
ArcGIS Online Map Viewer
Service Description: RemoteSensing/26JUL16143428_M2AS_050546146010_01_P002_TIF
Name: RemoteSensing/26JUL16143428_M2AS_050546146010_01_P002_TIF
Description:
Single Fused Map Cache: false
Extent:
XMin: 641135.9999999999
YMin: 4769752.8
XMax: 651079.1999999998
YMax: 4780400.399999999
Spatial Reference: 32617
(32617)
Initial Extent:
XMin: 641135.9999999999
YMin: 4769752.8
XMax: 651079.1999999998
YMax: 4780400.399999999
Spatial Reference: 32617
(32617)
Full Extent:
XMin: 641135.9999999999
YMin: 4769752.8
XMax: 651079.1999999998
YMax: 4780400.399999999
Spatial Reference: 32617
(32617)
Pixel Size X: 1.1999999999999944
Pixel Size Y: 1.199999999999958
Band Count: 8
Pixel Type: U16
RasterFunction Infos: {"rasterFunctionInfos": [{
"name": "None",
"description": "",
"help": ""
}]}
Mensuration Capabilities: Basic,Base-Top Height
Has Histograms: false
Has Colormap: false
Has Multi Dimensions : false
Rendering Rule:
Min Scale: 0
Max Scale: 0
Copyright Text:
Service Data Type: esriImageServiceDataTypeGeneric
Min Values: N/A
Max Values: N/A
Mean Values: N/A
Standard Deviation Values: N/A
Object ID Field:
Fields:
None
Default Mosaic Method: Center
Allowed Mosaic Methods:
SortField:
SortValue: null
Mosaic Operator: First
Default Compression Quality: 75
Default Resampling Method: Bilinear
Max Record Count: null
Max Image Height: 4100
Max Image Width: 15000
Max Download Image Count: null
Max Mosaic Image Count: null
Allow Raster Function: true
Allow Copy: true
Allow Analysis: true
Allow Compute TiePoints: false
Supports Statistics: false
Supports Advanced Queries: false
Use StandardizedQueries: true
Raster Type Infos:
Name: Raster Dataset
Description: Supports all ArcGIS Raster Datasets
Help:
Has Raster Attribute Table: false
Edit Fields Info: null
Ownership Based AccessControl For Rasters: null
Child Resources:
Info
Statistics
Key Properties
Legend
Raster Function Infos
Supported Operations:
Export Image
Identify
Measure
Compute Histograms
Compute Statistics Histograms
Get Samples
Compute Class Statistics
Query Boundary
Compute Pixel Location
Compute Angles
Validate
Project