View In:
ArcGIS JavaScript
ArcGIS Online Map Viewer
ArcGIS Earth
ArcMap
View Footprint In:
ArcGIS Online Map Viewer
Service Description: RemoteSensing/PHR1B_MS_202106241624073_ORT_6207430101_2_wcs
Name: RemoteSensing/PHR1B_MS_202106241624073_ORT_6207430101_2_wcs
Description:
Single Fused Map Cache: false
Extent:
XMin: 620852
YMin: 4770918
XMax: 638458
YMax: 4785252
Spatial Reference: 32617
(32617)
Initial Extent:
XMin: 620852
YMin: 4770918
XMax: 638458
YMax: 4785252
Spatial Reference: 32617
(32617)
Full Extent:
XMin: 620852
YMin: 4770918
XMax: 638458
YMax: 4785252
Spatial Reference: 32617
(32617)
Pixel Size X: 2.0
Pixel Size Y: 2.0
Band Count: 4
Pixel Type: U16
RasterFunction Infos: {"rasterFunctionInfos": [{
"name": "None",
"description": "",
"help": ""
}]}
Mensuration Capabilities: Basic
Has Histograms: true
Has Colormap: false
Has Multi Dimensions : false
Rendering Rule:
Min Scale: 0
Max Scale: 0
Copyright Text:
Service Data Type: esriImageServiceDataTypeGeneric
Min Values: 1, 1, 1, 1
Max Values: 11070, 10803, 9891, 10356
Mean Values: 861.13479685961, 951.33259565898, 742.71983109528, 2905.7857329002
Standard Deviation Values: 523.11198011063, 416.1082347104, 366.18471344818, 1019.9293017825
Object ID Field:
Fields:
None
Default Mosaic Method: Center
Allowed Mosaic Methods:
SortField:
SortValue: null
Mosaic Operator: First
Default Compression Quality: 75
Default Resampling Method: Bilinear
Max Record Count: null
Max Image Height: 4100
Max Image Width: 15000
Max Download Image Count: null
Max Mosaic Image Count: null
Allow Raster Function: true
Allow Copy: true
Allow Analysis: true
Allow Compute TiePoints: false
Supports Statistics: false
Supports Advanced Queries: false
Use StandardizedQueries: true
Raster Type Infos:
Name: Raster Dataset
Description: Supports all ArcGIS Raster Datasets
Help:
Has Raster Attribute Table: false
Edit Fields Info: null
Ownership Based AccessControl For Rasters: null
Child Resources:
Info
Histograms
Statistics
Key Properties
Legend
Raster Function Infos
Supported Operations:
Export Image
Identify
Add Rasters
Update Raster
Delete Rasters
Measure
Compute Histograms
Compute Statistics Histograms
Get Samples
Compute Class Statistics
Query Boundary
Compute Pixel Location
Compute Angles
Validate
Project