View In:
ArcGIS JavaScript
ArcGIS Online Map Viewer
ArcGIS Earth
ArcMap
View Footprint In:
ArcGIS Online Map Viewer
Service Description: RemoteSensing/PHR1B_P_202106241623403_ORT_6207431101_1_tif
Name: RemoteSensing/PHR1B_P_202106241623403_ORT_6207431101_1_tif
Description:
Single Fused Map Cache: false
Extent:
XMin: 619783.5
YMin: 4770924.5
XMax: 624500.5
YMax: 4784974.5
Spatial Reference: 32617
(32617)
Initial Extent:
XMin: 619783.5
YMin: 4770924.5
XMax: 624500.5
YMax: 4784974.5
Spatial Reference: 32617
(32617)
Full Extent:
XMin: 619783.5
YMin: 4770924.5
XMax: 624500.5
YMax: 4784974.5
Spatial Reference: 32617
(32617)
Pixel Size X: 0.5
Pixel Size Y: 0.5
Band Count: 1
Pixel Type: U16
RasterFunction Infos: {"rasterFunctionInfos": [{
"name": "None",
"description": "",
"help": ""
}]}
Mensuration Capabilities: Basic
Has Histograms: true
Has Colormap: false
Has Multi Dimensions : false
Rendering Rule:
Min Scale: 0
Max Scale: 0
Copyright Text:
Service Data Type: esriImageServiceDataTypeGeneric
Min Values: 1
Max Values: 11122
Mean Values: 1311.0488917609
Standard Deviation Values: 469.12498095321
Object ID Field:
Fields:
None
Default Mosaic Method: Center
Allowed Mosaic Methods:
SortField:
SortValue: null
Mosaic Operator: First
Default Compression Quality: 75
Default Resampling Method: Bilinear
Max Record Count: null
Max Image Height: 4100
Max Image Width: 15000
Max Download Image Count: null
Max Mosaic Image Count: null
Allow Raster Function: true
Allow Copy: true
Allow Analysis: true
Allow Compute TiePoints: false
Supports Statistics: false
Supports Advanced Queries: false
Use StandardizedQueries: true
Raster Type Infos:
Name: Raster Dataset
Description: Supports all ArcGIS Raster Datasets
Help:
Has Raster Attribute Table: false
Edit Fields Info: null
Ownership Based AccessControl For Rasters: null
Child Resources:
Info
Histograms
Statistics
Key Properties
Legend
Raster Function Infos
Supported Operations:
Export Image
Identify
Measure
Compute Histograms
Compute Statistics Histograms
Get Samples
Compute Class Statistics
Query Boundary
Compute Pixel Location
Compute Angles
Validate
Project