View In:
ArcGIS JavaScript
ArcGIS Online Map Viewer
ArcGIS Earth
ArcMap
View Footprint In:
ArcGIS Online Map Viewer
Service Description: RemoteSensing/Thorold_20260716_30cm_CIR_8bit_tif
Name: RemoteSensing/Thorold_20260716_30cm_CIR_8bit_tif
Description:
Single Fused Map Cache: false
Extent:
XMin: 641130.3
YMin: 4769756.7
XMax: 654329.1000000001
YMax: 4780467.9
Spatial Reference: 32617
(32617)
Initial Extent:
XMin: 641130.3
YMin: 4769756.7
XMax: 654329.1000000001
YMax: 4780467.9
Spatial Reference: 32617
(32617)
Full Extent:
XMin: 641130.3
YMin: 4769756.7
XMax: 654329.1000000001
YMax: 4780467.9
Spatial Reference: 32617
(32617)
Pixel Size X: 0.30000000000000104
Pixel Size Y: 0.3000000000000052
Band Count: 3
Pixel Type: U8
RasterFunction Infos: {"rasterFunctionInfos": [{
"name": "None",
"description": "",
"help": ""
}]}
Mensuration Capabilities: Basic
Has Histograms: true
Has Colormap: false
Has Multi Dimensions : false
Rendering Rule:
Min Scale: 0
Max Scale: 0
Copyright Text:
Service Data Type: esriImageServiceDataTypeRGB
Min Values: 1, 1, 1
Max Values: 255, 255, 255
Mean Values: 151.2218545769, 78.612240890781, 91.025921117441
Standard Deviation Values: 35.009858101369, 29.016179112038, 24.868237897678
Object ID Field:
Fields:
None
Default Mosaic Method: Center
Allowed Mosaic Methods:
SortField:
SortValue: null
Mosaic Operator: First
Default Compression Quality: 75
Default Resampling Method: Bilinear
Max Record Count: null
Max Image Height: 4100
Max Image Width: 15000
Max Download Image Count: null
Max Mosaic Image Count: null
Allow Raster Function: true
Allow Copy: true
Allow Analysis: true
Allow Compute TiePoints: false
Supports Statistics: false
Supports Advanced Queries: false
Use StandardizedQueries: true
Raster Type Infos:
Name: Raster Dataset
Description: Supports all ArcGIS Raster Datasets
Help:
Has Raster Attribute Table: false
Edit Fields Info: null
Ownership Based AccessControl For Rasters: null
Child Resources:
Info
Histograms
Statistics
Key Properties
Legend
Raster Function Infos
Supported Operations:
Export Image
Identify
Measure
Compute Histograms
Compute Statistics Histograms
Get Samples
Compute Class Statistics
Query Boundary
Compute Pixel Location
Compute Angles
Validate
Project