View In:
ArcGIS JavaScript
ArcGIS Online Map Viewer
ArcGIS Earth
ArcMap
View Footprint In:
ArcGIS Online Map Viewer
Service Description: Book 1, Map 13, Locks 4 & 5, Welland Canal
Name: WellandCanal/BK1_Map13_Locks4_5
Description: Book 1, Map 13, Locks 4 & 5, Welland Canal
Single Fused Map Cache: false
Extent:
XMin: 643011.5288073384
YMin: 4779351.3193132505
XMax: 644152.7022473385
YMax: 4781026.709293251
Spatial Reference: 26917
(26917)
Initial Extent:
XMin: 643011.5288073384
YMin: 4779351.3193132505
XMax: 644152.7022473385
YMax: 4781026.709293251
Spatial Reference: 26917
(26917)
Full Extent:
XMin: 643011.5288073384
YMin: 4779351.3193132505
XMax: 644152.7022473385
YMax: 4781026.709293251
Spatial Reference: 26917
(26917)
Pixel Size X: 0.23617000000000876
Pixel Size Y: 0.23617000000006255
Band Count: 3
Pixel Type: U16
RasterFunction Infos: {"rasterFunctionInfos": [{
"name": "None",
"description": "",
"help": ""
}]}
Mensuration Capabilities: Basic
Has Histograms: true
Has Colormap: false
Has Multi Dimensions : false
Rendering Rule:
Min Scale: 0
Max Scale: 0
Copyright Text:
Service Data Type: esriImageServiceDataTypeGeneric
Min Values: 0, 0, 0
Max Values: 255, 255, 255
Mean Values: 231.63841279275, 205.75198229059, 162.10820554836
Standard Deviation Values: 25.227705340109, 25.240695343877, 22.137198491431
Object ID Field:
Fields:
None
Default Mosaic Method: Center
Allowed Mosaic Methods:
SortField:
SortValue: null
Mosaic Operator: First
Default Compression Quality: 75
Default Resampling Method: Bilinear
Max Record Count: null
Max Image Height: 4100
Max Image Width: 15000
Max Download Image Count: null
Max Mosaic Image Count: null
Allow Raster Function: true
Allow Copy: true
Allow Analysis: true
Allow Compute TiePoints: false
Supports Statistics: false
Supports Advanced Queries: false
Use StandardizedQueries: true
Raster Type Infos:
Name: Raster Dataset
Description: Supports all ArcGIS Raster Datasets
Help:
Has Raster Attribute Table: false
Edit Fields Info: null
Ownership Based AccessControl For Rasters: null
Child Resources:
Info
Histograms
Statistics
Key Properties
Legend
Raster Function Infos
Supported Operations:
Export Image
Identify
Measure
Compute Histograms
Compute Statistics Histograms
Get Samples
Compute Class Statistics
Query Boundary
Compute Pixel Location
Compute Angles
Validate
Project