View In:
ArcGIS JavaScript
ArcGIS Online Map Viewer
ArcGIS Earth
ArcMap
View Footprint In:
ArcGIS Online Map Viewer
Service Description: Book 1, Map 14, Lock 5, Welland Canal
Name: WellandCanal/BK1_Map14_Lock5
Description: Book 1, Map 14, Lock 5, Welland Canal
Single Fused Map Cache: false
Extent:
XMin: 643426.8424917453
YMin: 4779777.431857713
XMax: 644175.8464817452
YMax: 4780771.250578713
Spatial Reference: 26917
(26917)
Initial Extent:
XMin: 643426.8424917453
YMin: 4779777.431857713
XMax: 644175.8464817452
YMax: 4780771.250578713
Spatial Reference: 26917
(26917)
Full Extent:
XMin: 643426.8424917453
YMin: 4779777.431857713
XMax: 644175.8464817452
YMax: 4780771.250578713
Spatial Reference: 26917
(26917)
Pixel Size X: 0.15010099999999948
Pixel Size Y: 0.1501010000000159
Band Count: 3
Pixel Type: U16
RasterFunction Infos: {"rasterFunctionInfos": [{
"name": "None",
"description": "",
"help": ""
}]}
Mensuration Capabilities: Basic
Has Histograms: true
Has Colormap: false
Has Multi Dimensions : false
Rendering Rule:
Min Scale: 0
Max Scale: 0
Copyright Text:
Service Data Type: esriImageServiceDataTypeGeneric
Min Values: 0, 0, 0
Max Values: 255, 255, 255
Mean Values: 243.36624365497, 221.76654756799, 175.33516828589
Standard Deviation Values: 29.495479584417, 30.148829066827, 23.240544918666
Object ID Field:
Fields:
None
Default Mosaic Method: Center
Allowed Mosaic Methods:
SortField:
SortValue: null
Mosaic Operator: First
Default Compression Quality: 75
Default Resampling Method: Bilinear
Max Record Count: null
Max Image Height: 4100
Max Image Width: 15000
Max Download Image Count: null
Max Mosaic Image Count: null
Allow Raster Function: true
Allow Copy: true
Allow Analysis: true
Allow Compute TiePoints: false
Supports Statistics: false
Supports Advanced Queries: false
Use StandardizedQueries: true
Raster Type Infos:
Name: Raster Dataset
Description: Supports all ArcGIS Raster Datasets
Help:
Has Raster Attribute Table: false
Edit Fields Info: null
Ownership Based AccessControl For Rasters: null
Child Resources:
Info
Histograms
Statistics
Key Properties
Legend
Raster Function Infos
Supported Operations:
Export Image
Identify
Measure
Compute Histograms
Compute Statistics Histograms
Get Samples
Compute Class Statistics
Query Boundary
Compute Pixel Location
Compute Angles
Validate
Project