View In:
ArcGIS JavaScript
ArcGIS Online Map Viewer
ArcGIS Earth
ArcMap
View Footprint In:
ArcGIS Online Map Viewer
Service Description: Book 1, Map 15, Welland Canal
Name: WellandCanal/BK1_Map15
Description: Book 1, Map 15, Welland Canal
Single Fused Map Cache: false
Extent:
XMin: 644123.1451715634
YMin: 4779258.9483279325
XMax: 644873.5749815634
YMax: 4780332.078177933
Spatial Reference: 26917
(26917)
Initial Extent:
XMin: 644123.1451715634
YMin: 4779258.9483279325
XMax: 644873.5749815634
YMax: 4780332.078177933
Spatial Reference: 26917
(26917)
Full Extent:
XMin: 644123.1451715634
YMin: 4779258.9483279325
XMax: 644873.5749815634
YMax: 4780332.078177933
Spatial Reference: 26917
(26917)
Pixel Size X: 0.1522170000000003
Pixel Size Y: 0.15221700000002028
Band Count: 3
Pixel Type: U16
RasterFunction Infos: {"rasterFunctionInfos": [{
"name": "None",
"description": "",
"help": ""
}]}
Mensuration Capabilities: Basic
Has Histograms: true
Has Colormap: false
Has Multi Dimensions : false
Rendering Rule:
Min Scale: 0
Max Scale: 0
Copyright Text:
Service Data Type: esriImageServiceDataTypeGeneric
Min Values: 0, 0, 0
Max Values: 255, 255, 255
Mean Values: 242.89249848369, 221.20297637478, 176.55768091278
Standard Deviation Values: 25.854709259217, 27.137280971021, 23.766109479021
Object ID Field:
Fields:
None
Default Mosaic Method: Center
Allowed Mosaic Methods:
SortField:
SortValue: null
Mosaic Operator: First
Default Compression Quality: 75
Default Resampling Method: Bilinear
Max Record Count: null
Max Image Height: 4100
Max Image Width: 15000
Max Download Image Count: null
Max Mosaic Image Count: null
Allow Raster Function: true
Allow Copy: true
Allow Analysis: true
Allow Compute TiePoints: false
Supports Statistics: false
Supports Advanced Queries: false
Use StandardizedQueries: true
Raster Type Infos:
Name: Raster Dataset
Description: Supports all ArcGIS Raster Datasets
Help:
Has Raster Attribute Table: false
Edit Fields Info: null
Ownership Based AccessControl For Rasters: null
Child Resources:
Info
Histograms
Statistics
Key Properties
Legend
Raster Function Infos
Supported Operations:
Export Image
Identify
Measure
Compute Histograms
Compute Statistics Histograms
Get Samples
Compute Class Statistics
Query Boundary
Compute Pixel Location
Compute Angles
Validate
Project