View In:
ArcGIS JavaScript
ArcGIS Online Map Viewer
ArcGIS Earth
ArcMap
View Footprint In:
ArcGIS Online Map Viewer
Service Description: Welland Canal Shikluna Shipyard
Name: WellandCanal/Bk1Map10Shickluna
Description: Welland Canal Shikluna Shipyard
Single Fused Map Cache: false
Extent:
XMin: 641615.2442835472
YMin: 4778907.785002614
XMax: 642719.8600035472
YMax: 4780174.4401066145
Spatial Reference: 26917
(26917)
Initial Extent:
XMin: 641615.2442835472
YMin: 4778907.785002614
XMax: 642719.8600035472
YMax: 4780174.4401066145
Spatial Reference: 26917
(26917)
Full Extent:
XMin: 641615.2442835472
YMin: 4778907.785002614
XMax: 642719.8600035472
YMax: 4780174.4401066145
Spatial Reference: 26917
(26917)
Pixel Size X: 0.2180880000000003
Pixel Size Y: 0.2180880000000209
Band Count: 3
Pixel Type: U16
RasterFunction Infos: {"rasterFunctionInfos": [{
"name": "None",
"description": "",
"help": ""
}]}
Mensuration Capabilities: Basic
Has Histograms: true
Has Colormap: false
Has Multi Dimensions : false
Rendering Rule:
Min Scale: 0
Max Scale: 0
Copyright Text:
Service Data Type: esriImageServiceDataTypeGeneric
Min Values: 0, 0, 0
Max Values: 255, 255, 255
Mean Values: 232.02770335856, 219.42257463363, 175.97558819591
Standard Deviation Values: 17.69402040213, 15.592510337918, 15.190548235148
Object ID Field:
Fields:
None
Default Mosaic Method: Center
Allowed Mosaic Methods:
SortField:
SortValue: null
Mosaic Operator: First
Default Compression Quality: 75
Default Resampling Method: Bilinear
Max Record Count: null
Max Image Height: 4100
Max Image Width: 15000
Max Download Image Count: null
Max Mosaic Image Count: null
Allow Raster Function: true
Allow Copy: true
Allow Analysis: true
Allow Compute TiePoints: false
Supports Statistics: false
Supports Advanced Queries: false
Use StandardizedQueries: true
Raster Type Infos:
Name: Raster Dataset
Description: Supports all ArcGIS Raster Datasets
Help:
Has Raster Attribute Table: false
Edit Fields Info: null
Ownership Based AccessControl For Rasters: null
Child Resources:
Info
Histograms
Statistics
Key Properties
Legend
Raster Function Infos
Supported Operations:
Export Image
Identify
Measure
Compute Histograms
Compute Statistics Histograms
Get Samples
Compute Class Statistics
Query Boundary
Compute Pixel Location
Compute Angles
Validate
Project