View In:
ArcGIS JavaScript
ArcGIS Online Map Viewer
ArcGIS Earth
ArcMap
View Footprint In:
ArcGIS Online Map Viewer
Service Description: Book 1, Map 10
Name: WellandCanal/Bk1_Map10
Description: Book 1, Map 10
Single Fused Map Cache: false
Extent:
XMin: 641657.2955652211
YMin: 4779063.9546443205
XMax: 642602.6248482211
YMax: 4780168.244582321
Spatial Reference: 26917
(26917)
Initial Extent:
XMin: 641657.2955652211
YMin: 4779063.9546443205
XMax: 642602.6248482211
YMax: 4780168.244582321
Spatial Reference: 26917
(26917)
Full Extent:
XMin: 641657.2955652211
YMin: 4779063.9546443205
XMax: 642602.6248482211
YMax: 4780168.244582321
Spatial Reference: 26917
(26917)
Pixel Size X: 0.21627299999999314
Pixel Size Y: 0.21627300000000604
Band Count: 3
Pixel Type: U16
RasterFunction Infos: {"rasterFunctionInfos": [{
"name": "None",
"description": "",
"help": ""
}]}
Mensuration Capabilities: Basic
Has Histograms: true
Has Colormap: false
Has Multi Dimensions : false
Rendering Rule:
Min Scale: 0
Max Scale: 0
Copyright Text:
Service Data Type: esriImageServiceDataTypeGeneric
Min Values: 10, 38, 11
Max Values: 255, 255, 255
Mean Values: 231.25013631114, 218.83258126422, 175.5717896504
Standard Deviation Values: 18.168305371007, 15.814570524603, 14.956623479771
Object ID Field:
Fields:
None
Default Mosaic Method: Center
Allowed Mosaic Methods:
SortField:
SortValue: null
Mosaic Operator: First
Default Compression Quality: 75
Default Resampling Method: Bilinear
Max Record Count: null
Max Image Height: 4100
Max Image Width: 15000
Max Download Image Count: null
Max Mosaic Image Count: null
Allow Raster Function: true
Allow Copy: true
Allow Analysis: true
Allow Compute TiePoints: false
Supports Statistics: false
Supports Advanced Queries: false
Use StandardizedQueries: true
Raster Type Infos:
Name: Raster Dataset
Description: Supports all ArcGIS Raster Datasets
Help:
Has Raster Attribute Table: false
Edit Fields Info: null
Ownership Based AccessControl For Rasters: null
Child Resources:
Info
Histograms
Statistics
Key Properties
Legend
Raster Function Infos
Supported Operations:
Export Image
Identify
Measure
Compute Histograms
Compute Statistics Histograms
Get Samples
Compute Class Statistics
Query Boundary
Compute Pixel Location
Compute Angles
Validate
Project