View In:
ArcGIS JavaScript
ArcGIS Online Map Viewer
ArcGIS Earth
ArcMap
View Footprint In:
ArcGIS Online Map Viewer
Service Description: Book 1, Map 11, Locks 3-4, Welland Canal
Name: WellandCanal/Bk1_Map11_Locks3_4
Description: Book 1, Map 11, Locks 3-4, Welland Canal
Single Fused Map Cache: false
Extent:
XMin: 642305.0687062246
YMin: 4778822.098725077
XMax: 643463.0771312246
YMax: 4780326.026514077
Spatial Reference: 26917
(26917)
Initial Extent:
XMin: 642305.0687062246
YMin: 4778822.098725077
XMax: 643463.0771312246
YMax: 4780326.026514077
Spatial Reference: 26917
(26917)
Full Extent:
XMin: 642305.0687062246
YMin: 4778822.098725077
XMax: 643463.0771312246
YMax: 4780326.026514077
Spatial Reference: 26917
(26917)
Pixel Size X: 0.22817900000000144
Pixel Size Y: 0.2281789999999792
Band Count: 3
Pixel Type: U16
RasterFunction Infos: {"rasterFunctionInfos": [{
"name": "None",
"description": "",
"help": ""
}]}
Mensuration Capabilities: Basic
Has Histograms: true
Has Colormap: false
Has Multi Dimensions : false
Rendering Rule:
Min Scale: 0
Max Scale: 0
Copyright Text:
Service Data Type: esriImageServiceDataTypeGeneric
Min Values: 0, 0, 0
Max Values: 255, 255, 255
Mean Values: 227.38860035717, 213.30255418129, 166.72021124701
Standard Deviation Values: 19.193831393163, 18.000928295916, 16.709617132513
Object ID Field:
Fields:
None
Default Mosaic Method: Center
Allowed Mosaic Methods:
SortField:
SortValue: null
Mosaic Operator: First
Default Compression Quality: 75
Default Resampling Method: Bilinear
Max Record Count: null
Max Image Height: 4100
Max Image Width: 15000
Max Download Image Count: null
Max Mosaic Image Count: null
Allow Raster Function: true
Allow Copy: true
Allow Analysis: true
Allow Compute TiePoints: false
Supports Statistics: false
Supports Advanced Queries: false
Use StandardizedQueries: true
Raster Type Infos:
Name: Raster Dataset
Description: Supports all ArcGIS Raster Datasets
Help:
Has Raster Attribute Table: false
Edit Fields Info: null
Ownership Based AccessControl For Rasters: null
Child Resources:
Info
Histograms
Statistics
Key Properties
Legend
Raster Function Infos
Supported Operations:
Export Image
Identify
Measure
Compute Histograms
Compute Statistics Histograms
Get Samples
Compute Class Statistics
Query Boundary
Compute Pixel Location
Compute Angles
Validate
Project