View In:
ArcGIS JavaScript
ArcGIS Online Map Viewer
ArcGIS Earth
ArcMap
View Footprint In:
ArcGIS Online Map Viewer
Service Description: Book 1, Map 12, Lock 4, Welland Canal
Name: WellandCanal/Bk1_Map12_Lock4
Description: Book 1, Map 12, Lock 4, Welland Canal
Single Fused Map Cache: false
Extent:
XMin: 642842.2639803045
YMin: 4779575.693840561
XMax: 643576.7324563045
YMax: 4780563.172206561
Spatial Reference: 26917
(26917)
Initial Extent:
XMin: 642842.2639803045
YMin: 4779575.693840561
XMax: 643576.7324563045
YMax: 4780563.172206561
Spatial Reference: 26917
(26917)
Full Extent:
XMin: 642842.2639803045
YMin: 4779575.693840561
XMax: 643576.7324563045
YMax: 4780563.172206561
Spatial Reference: 26917
(26917)
Pixel Size X: 0.14795900000000184
Pixel Size Y: 0.14795899999994702
Band Count: 3
Pixel Type: U16
RasterFunction Infos: {"rasterFunctionInfos": [{
"name": "None",
"description": "",
"help": ""
}]}
Mensuration Capabilities: Basic
Has Histograms: true
Has Colormap: false
Has Multi Dimensions : false
Rendering Rule:
Min Scale: 0
Max Scale: 0
Copyright Text:
Service Data Type: esriImageServiceDataTypeGeneric
Min Values: 0, 0, 0
Max Values: 255, 255, 255
Mean Values: 228.94911997478, 215.83987371401, 169.68134912103
Standard Deviation Values: 25.039499543861, 23.150698753561, 21.084588593606
Object ID Field:
Fields:
None
Default Mosaic Method: Center
Allowed Mosaic Methods:
SortField:
SortValue: null
Mosaic Operator: First
Default Compression Quality: 75
Default Resampling Method: Bilinear
Max Record Count: null
Max Image Height: 4100
Max Image Width: 15000
Max Download Image Count: null
Max Mosaic Image Count: null
Allow Raster Function: true
Allow Copy: true
Allow Analysis: true
Allow Compute TiePoints: false
Supports Statistics: false
Supports Advanced Queries: false
Use StandardizedQueries: true
Raster Type Infos:
Name: Raster Dataset
Description: Supports all ArcGIS Raster Datasets
Help:
Has Raster Attribute Table: false
Edit Fields Info: null
Ownership Based AccessControl For Rasters: null
Child Resources:
Info
Histograms
Statistics
Key Properties
Legend
Raster Function Infos
Supported Operations:
Export Image
Identify
Measure
Compute Histograms
Compute Statistics Histograms
Get Samples
Compute Class Statistics
Query Boundary
Compute Pixel Location
Compute Angles
Validate
Project