View In:
ArcGIS JavaScript
ArcGIS Online Map Viewer
ArcGIS Earth
ArcMap
View Footprint In:
ArcGIS Online Map Viewer
Service Description: Book 1, Map 2, Welland Canal
Name: WellandCanal/Bk1_Map2
Description: Book 1, Map 2, Welland Canal
Single Fused Map Cache: false
Extent:
XMin: 640633.9787502583
YMin: 4783811.117111236
XMax: 641795.2387902583
YMax: 4785517.023776236
Spatial Reference: 26917
(26917)
Initial Extent:
XMin: 640633.9787502583
YMin: 4783811.117111236
XMax: 641795.2387902583
YMax: 4785517.023776236
Spatial Reference: 26917
(26917)
Full Extent:
XMin: 640633.9787502583
YMin: 4783811.117111236
XMax: 641795.2387902583
YMax: 4785517.023776236
Spatial Reference: 26917
(26917)
Pixel Size X: 0.24478499999999254
Pixel Size Y: 0.24478500000001913
Band Count: 3
Pixel Type: U16
RasterFunction Infos: {"rasterFunctionInfos": [{
"name": "None",
"description": "",
"help": ""
}]}
Mensuration Capabilities: Basic
Has Histograms: true
Has Colormap: false
Has Multi Dimensions : false
Rendering Rule:
Min Scale: 0
Max Scale: 0
Copyright Text:
Service Data Type: esriImageServiceDataTypeGeneric
Min Values: 0, 0, 0
Max Values: 255, 255, 255
Mean Values: 245.58822477055, 223.46807690917, 190.0710675234
Standard Deviation Values: 23.062013220941, 23.571700269965, 21.222497611631
Object ID Field:
Fields:
None
Default Mosaic Method: Center
Allowed Mosaic Methods:
SortField:
SortValue: null
Mosaic Operator: First
Default Compression Quality: 75
Default Resampling Method: Bilinear
Max Record Count: null
Max Image Height: 4100
Max Image Width: 15000
Max Download Image Count: null
Max Mosaic Image Count: null
Allow Raster Function: true
Allow Copy: true
Allow Analysis: true
Allow Compute TiePoints: false
Supports Statistics: false
Supports Advanced Queries: false
Use StandardizedQueries: true
Raster Type Infos:
Name: Raster Dataset
Description: Supports all ArcGIS Raster Datasets
Help:
Has Raster Attribute Table: false
Edit Fields Info: null
Ownership Based AccessControl For Rasters: null
Child Resources:
Info
Histograms
Statistics
Key Properties
Legend
Raster Function Infos
Supported Operations:
Export Image
Identify
Measure
Compute Histograms
Compute Statistics Histograms
Get Samples
Compute Class Statistics
Query Boundary
Compute Pixel Location
Compute Angles
Validate
Project