View In:
ArcGIS JavaScript
ArcGIS Online Map Viewer
ArcGIS Earth
ArcMap
View Footprint In:
ArcGIS Online Map Viewer
Service Description: Book 1, Map 4, Welland Canal
Name: WellandCanal/Bk1_Map4
Description: Book 1, Map 4, Welland Canal
Single Fused Map Cache: false
Extent:
XMin: 639994.7609753108
YMin: 4781576.533469628
XMax: 641109.6957873108
YMax: 4783030.449723627
Spatial Reference: 26917
(26917)
Initial Extent:
XMin: 639994.7609753108
YMin: 4781576.533469628
XMax: 641109.6957873108
YMax: 4783030.449723627
Spatial Reference: 26917
(26917)
Full Extent:
XMin: 639994.7609753108
YMin: 4781576.533469628
XMax: 641109.6957873108
YMax: 4783030.449723627
Spatial Reference: 26917
(26917)
Pixel Size X: 0.2344270000000045
Pixel Size Y: 0.23442699999996888
Band Count: 3
Pixel Type: U16
RasterFunction Infos: {"rasterFunctionInfos": [{
"name": "None",
"description": "",
"help": ""
}]}
Mensuration Capabilities: Basic
Has Histograms: true
Has Colormap: false
Has Multi Dimensions : false
Rendering Rule:
Min Scale: 0
Max Scale: 0
Copyright Text:
Service Data Type: esriImageServiceDataTypeGeneric
Min Values: 0, 0, 0
Max Values: 255, 255, 251
Mean Values: 250.51760454235, 235.53627448235, 203.98163158642
Standard Deviation Values: 19.612535323611, 20.5288747719, 18.767249539287
Object ID Field:
Fields:
None
Default Mosaic Method: Center
Allowed Mosaic Methods:
SortField:
SortValue: null
Mosaic Operator: First
Default Compression Quality: 75
Default Resampling Method: Bilinear
Max Record Count: null
Max Image Height: 4100
Max Image Width: 15000
Max Download Image Count: null
Max Mosaic Image Count: null
Allow Raster Function: true
Allow Copy: true
Allow Analysis: true
Allow Compute TiePoints: false
Supports Statistics: false
Supports Advanced Queries: false
Use StandardizedQueries: true
Raster Type Infos:
Name: Raster Dataset
Description: Supports all ArcGIS Raster Datasets
Help:
Has Raster Attribute Table: false
Edit Fields Info: null
Ownership Based AccessControl For Rasters: null
Child Resources:
Info
Histograms
Statistics
Key Properties
Legend
Raster Function Infos
Supported Operations:
Export Image
Identify
Measure
Compute Histograms
Compute Statistics Histograms
Get Samples
Compute Class Statistics
Query Boundary
Compute Pixel Location
Compute Angles
Validate
Project