View In:
ArcGIS JavaScript
ArcGIS Online Map Viewer
ArcGIS Earth
ArcMap
View Footprint In:
ArcGIS Online Map Viewer
Service Description: Book 1, Map 5, Welland Canal
Name: WellandCanal/Bk1_Map5
Description: Book 1, Map 5, Welland Canal
Single Fused Map Cache: false
Extent:
XMin: 640088.000034246
YMin: 4781046.192736121
XMax: 641220.108279246
YMax: 4782455.720851121
Spatial Reference: 26917
(26917)
Initial Extent:
XMin: 640088.000034246
YMin: 4781046.192736121
XMax: 641220.108279246
YMax: 4782455.720851121
Spatial Reference: 26917
(26917)
Full Extent:
XMin: 640088.000034246
YMin: 4781046.192736121
XMax: 641220.108279246
YMax: 4782455.720851121
Spatial Reference: 26917
(26917)
Pixel Size X: 0.217755000000002
Pixel Size Y: 0.21775499999994508
Band Count: 3
Pixel Type: U16
RasterFunction Infos: {"rasterFunctionInfos": [{
"name": "None",
"description": "",
"help": ""
}]}
Mensuration Capabilities: Basic
Has Histograms: true
Has Colormap: false
Has Multi Dimensions : false
Rendering Rule:
Min Scale: 0
Max Scale: 0
Copyright Text:
Service Data Type: esriImageServiceDataTypeGeneric
Min Values: 0, 0, 0
Max Values: 255, 255, 255
Mean Values: 231.04662561194, 204.41467832752, 173.21924912323
Standard Deviation Values: 26.184538432886, 24.297234272603, 21.047427171845
Object ID Field:
Fields:
None
Default Mosaic Method: Center
Allowed Mosaic Methods:
SortField:
SortValue: null
Mosaic Operator: First
Default Compression Quality: 75
Default Resampling Method: Bilinear
Max Record Count: null
Max Image Height: 4100
Max Image Width: 15000
Max Download Image Count: null
Max Mosaic Image Count: null
Allow Raster Function: true
Allow Copy: true
Allow Analysis: true
Allow Compute TiePoints: false
Supports Statistics: false
Supports Advanced Queries: false
Use StandardizedQueries: true
Raster Type Infos:
Name: Raster Dataset
Description: Supports all ArcGIS Raster Datasets
Help:
Has Raster Attribute Table: false
Edit Fields Info: null
Ownership Based AccessControl For Rasters: null
Child Resources:
Info
Histograms
Statistics
Key Properties
Legend
Raster Function Infos
Supported Operations:
Export Image
Identify
Measure
Compute Histograms
Compute Statistics Histograms
Get Samples
Compute Class Statistics
Query Boundary
Compute Pixel Location
Compute Angles
Validate
Project