View In:
ArcGIS JavaScript
ArcGIS Online Map Viewer
ArcGIS Earth
ArcMap
View Footprint In:
ArcGIS Online Map Viewer
Service Description: Book 1, Map 9, Welland Canal
Name: WellandCanal/Bk1_Map9_Lock21
Description: Book 1, Map 9, Welland Canal
Single Fused Map Cache: false
Extent:
XMin: 640799.3088432377
YMin: 4779646.707397564
XMax: 641887.8951552378
YMax: 4781060.079445564
Spatial Reference: 26917
(26917)
Initial Extent:
XMin: 640799.3088432377
YMin: 4779646.707397564
XMax: 641887.8951552378
YMax: 4781060.079445564
Spatial Reference: 26917
(26917)
Full Extent:
XMin: 640799.3088432377
YMin: 4779646.707397564
XMax: 641887.8951552378
YMax: 4781060.079445564
Spatial Reference: 26917
(26917)
Pixel Size X: 0.2131140000000113
Pixel Size Y: 0.21311399999998096
Band Count: 3
Pixel Type: U16
RasterFunction Infos: {"rasterFunctionInfos": [{
"name": "None",
"description": "",
"help": ""
}]}
Mensuration Capabilities: Basic
Has Histograms: true
Has Colormap: false
Has Multi Dimensions : false
Rendering Rule:
Min Scale: 0
Max Scale: 0
Copyright Text:
Service Data Type: esriImageServiceDataTypeGeneric
Min Values: 32, 36, 5
Max Values: 255, 255, 255
Mean Values: 244.26749294111, 231.87006878765, 189.11837827216
Standard Deviation Values: 19.278935713508, 17.660552837754, 16.75635325416
Object ID Field:
Fields:
None
Default Mosaic Method: Center
Allowed Mosaic Methods:
SortField:
SortValue: null
Mosaic Operator: First
Default Compression Quality: 75
Default Resampling Method: Bilinear
Max Record Count: null
Max Image Height: 4100
Max Image Width: 15000
Max Download Image Count: null
Max Mosaic Image Count: null
Allow Raster Function: true
Allow Copy: true
Allow Analysis: true
Allow Compute TiePoints: false
Supports Statistics: false
Supports Advanced Queries: false
Use StandardizedQueries: true
Raster Type Infos:
Name: Raster Dataset
Description: Supports all ArcGIS Raster Datasets
Help:
Has Raster Attribute Table: false
Edit Fields Info: null
Ownership Based AccessControl For Rasters: null
Child Resources:
Info
Histograms
Statistics
Key Properties
Legend
Raster Function Infos
Supported Operations:
Export Image
Identify
Measure
Compute Histograms
Compute Statistics Histograms
Get Samples
Compute Class Statistics
Query Boundary
Compute Pixel Location
Compute Angles
Validate
Project