View In:
ArcGIS JavaScript
ArcGIS Online Map Viewer
ArcGIS Earth
ArcMap
View Footprint In:
ArcGIS Online Map Viewer
Service Description: Book 2, Map 12, Welland Canal
Name: WellandCanal/Bk2_Map12
Description: Book 2, Map 12, Welland Canal
Single Fused Map Cache: false
Extent:
XMin: 644645.029165316
YMin: 4772063.416714223
XMax: 645853.229704316
YMax: 4773550.167577223
Spatial Reference: 26917
(26917)
Initial Extent:
XMin: 644645.029165316
YMin: 4772063.416714223
XMax: 645853.229704316
YMax: 4773550.167577223
Spatial Reference: 26917
(26917)
Full Extent:
XMin: 644645.029165316
YMin: 4772063.416714223
XMax: 645853.229704316
YMax: 4773550.167577223
Spatial Reference: 26917
(26917)
Pixel Size X: 0.22982699999999678
Pixel Size Y: 0.22982699999997205
Band Count: 3
Pixel Type: U16
RasterFunction Infos: {"rasterFunctionInfos": [{
"name": "None",
"description": "",
"help": ""
}]}
Mensuration Capabilities: Basic
Has Histograms: true
Has Colormap: false
Has Multi Dimensions : false
Rendering Rule:
Min Scale: 0
Max Scale: 0
Copyright Text:
Service Data Type: esriImageServiceDataTypeGeneric
Min Values: 21, 50, 23
Max Values: 255, 255, 255
Mean Values: 247.14075324967, 233.90894772155, 194.45603665754
Standard Deviation Values: 18.706323574113, 17.128534736773, 23.347134975133
Object ID Field:
Fields:
None
Default Mosaic Method: Center
Allowed Mosaic Methods:
SortField:
SortValue: null
Mosaic Operator: First
Default Compression Quality: 75
Default Resampling Method: Bilinear
Max Record Count: null
Max Image Height: 4100
Max Image Width: 15000
Max Download Image Count: null
Max Mosaic Image Count: null
Allow Raster Function: true
Allow Copy: true
Allow Analysis: true
Allow Compute TiePoints: false
Supports Statistics: false
Supports Advanced Queries: false
Use StandardizedQueries: true
Raster Type Infos:
Name: Raster Dataset
Description: Supports all ArcGIS Raster Datasets
Help:
Has Raster Attribute Table: false
Edit Fields Info: null
Ownership Based AccessControl For Rasters: null
Child Resources:
Info
Histograms
Statistics
Key Properties
Legend
Raster Function Infos
Supported Operations:
Export Image
Identify
Measure
Compute Histograms
Compute Statistics Histograms
Get Samples
Compute Class Statistics
Query Boundary
Compute Pixel Location
Compute Angles
Validate
Project