View In:
ArcGIS JavaScript
ArcGIS Online Map Viewer
ArcGIS Earth
ArcMap
View Footprint In:
ArcGIS Online Map Viewer
Service Description: Book 2, Map 13, Welland Canal
Name: WellandCanal/Bk2_Map13
Description: Book 2, Map 13, Welland Canal
Single Fused Map Cache: false
Extent:
XMin: 644744.4088699468
YMin: 4770971.072484722
XMax: 645854.8638129468
YMax: 4772516.411720722
Spatial Reference: 26917
(26917)
Initial Extent:
XMin: 644744.4088699468
YMin: 4770971.072484722
XMax: 645854.8638129468
YMax: 4772516.411720722
Spatial Reference: 26917
(26917)
Full Extent:
XMin: 644744.4088699468
YMin: 4770971.072484722
XMax: 645854.8638129468
YMax: 4772516.411720722
Spatial Reference: 26917
(26917)
Pixel Size X: 0.22900699999999788
Pixel Size Y: 0.2290069999999439
Band Count: 3
Pixel Type: U16
RasterFunction Infos: {"rasterFunctionInfos": [{
"name": "None",
"description": "",
"help": ""
}]}
Mensuration Capabilities: Basic
Has Histograms: true
Has Colormap: false
Has Multi Dimensions : false
Rendering Rule:
Min Scale: 0
Max Scale: 0
Copyright Text:
Service Data Type: esriImageServiceDataTypeGeneric
Min Values: 18, 48, 24
Max Values: 255, 255, 255
Mean Values: 245.68176197573, 231.40879879586, 189.52365121966
Standard Deviation Values: 18.670403688037, 16.902446097604, 22.221945099041
Object ID Field:
Fields:
None
Default Mosaic Method: Center
Allowed Mosaic Methods:
SortField:
SortValue: null
Mosaic Operator: First
Default Compression Quality: 75
Default Resampling Method: Bilinear
Max Record Count: null
Max Image Height: 4100
Max Image Width: 15000
Max Download Image Count: null
Max Mosaic Image Count: null
Allow Raster Function: true
Allow Copy: true
Allow Analysis: true
Allow Compute TiePoints: false
Supports Statistics: false
Supports Advanced Queries: false
Use StandardizedQueries: true
Raster Type Infos:
Name: Raster Dataset
Description: Supports all ArcGIS Raster Datasets
Help:
Has Raster Attribute Table: false
Edit Fields Info: null
Ownership Based AccessControl For Rasters: null
Child Resources:
Info
Histograms
Statistics
Key Properties
Legend
Raster Function Infos
Supported Operations:
Export Image
Identify
Measure
Compute Histograms
Compute Statistics Histograms
Get Samples
Compute Class Statistics
Query Boundary
Compute Pixel Location
Compute Angles
Validate
Project