View In:
ArcGIS JavaScript
ArcGIS Online Map Viewer
ArcGIS Earth
ArcMap
View Footprint In:
ArcGIS Online Map Viewer
Service Description: Book 2, Map 14, Welland Canal
Name: WellandCanal/Bk2_Map14_Lock26
Description: Book 2, Map 14, Welland Canal
Single Fused Map Cache: false
Extent:
XMin: 645267.8707584065
YMin: 4770160.082859124
XMax: 646031.1335004065
YMax: 4771294.521318124
Spatial Reference: 26917
(26917)
Initial Extent:
XMin: 645267.8707584065
YMin: 4770160.082859124
XMax: 646031.1335004065
YMax: 4771294.521318124
Spatial Reference: 26917
(26917)
Full Extent:
XMin: 645267.8707584065
YMin: 4770160.082859124
XMax: 646031.1335004065
YMax: 4771294.521318124
Spatial Reference: 26917
(26917)
Pixel Size X: 0.15841900000001036
Pixel Size Y: 0.15841899999994677
Band Count: 3
Pixel Type: U16
RasterFunction Infos: {"rasterFunctionInfos": [{
"name": "None",
"description": "",
"help": ""
}]}
Mensuration Capabilities: Basic
Has Histograms: true
Has Colormap: false
Has Multi Dimensions : false
Rendering Rule:
Min Scale: 0
Max Scale: 0
Copyright Text:
Service Data Type: esriImageServiceDataTypeGeneric
Min Values: 2, 8, 5
Max Values: 255, 255, 255
Mean Values: 240.80016234789, 225.41406821704, 182.26113056323
Standard Deviation Values: 26.260925424081, 24.298418556101, 32.553366319469
Object ID Field:
Fields:
None
Default Mosaic Method: Center
Allowed Mosaic Methods:
SortField:
SortValue: null
Mosaic Operator: First
Default Compression Quality: 75
Default Resampling Method: Bilinear
Max Record Count: null
Max Image Height: 4100
Max Image Width: 15000
Max Download Image Count: null
Max Mosaic Image Count: null
Allow Raster Function: true
Allow Copy: true
Allow Analysis: true
Allow Compute TiePoints: false
Supports Statistics: false
Supports Advanced Queries: false
Use StandardizedQueries: true
Raster Type Infos:
Name: Raster Dataset
Description: Supports all ArcGIS Raster Datasets
Help:
Has Raster Attribute Table: false
Edit Fields Info: null
Ownership Based AccessControl For Rasters: null
Child Resources:
Info
Histograms
Statistics
Key Properties
Legend
Raster Function Infos
Supported Operations:
Export Image
Identify
Measure
Compute Histograms
Compute Statistics Histograms
Get Samples
Compute Class Statistics
Query Boundary
Compute Pixel Location
Compute Angles
Validate
Project