View In:
ArcGIS JavaScript
ArcGIS Online Map Viewer
ArcGIS Earth
ArcMap
View Footprint In:
ArcGIS Online Map Viewer
Service Description: Book 2, Map 15, Welland Canal
Name: WellandCanal/Bk2_Map15
Description: Book 2, Map 15, Welland Canal
Single Fused Map Cache: false
Extent:
XMin: 645065.9361994903
YMin: 4768776.52082133
XMax: 646200.1382234903
YMax: 4770395.02525933
Spatial Reference: 26917
(26917)
Initial Extent:
XMin: 645065.9361994903
YMin: 4768776.52082133
XMax: 646200.1382234903
YMax: 4770395.02525933
Spatial Reference: 26917
(26917)
Full Extent:
XMin: 645065.9361994903
YMin: 4768776.52082133
XMax: 646200.1382234903
YMax: 4770395.02525933
Spatial Reference: 26917
(26917)
Pixel Size X: 0.23128099999999965
Pixel Size Y: 0.2312809999999714
Band Count: 3
Pixel Type: U16
RasterFunction Infos: {"rasterFunctionInfos": [{
"name": "None",
"description": "",
"help": ""
}]}
Mensuration Capabilities: Basic
Has Histograms: true
Has Colormap: false
Has Multi Dimensions : false
Rendering Rule:
Min Scale: 0
Max Scale: 0
Copyright Text:
Service Data Type: esriImageServiceDataTypeGeneric
Min Values: 41, 44, 32
Max Values: 255, 255, 255
Mean Values: 250.4420710476, 237.75577662026, 191.0449155479
Standard Deviation Values: 17.79865341218, 17.675210993993, 16.055420417947
Object ID Field:
Fields:
None
Default Mosaic Method: Center
Allowed Mosaic Methods:
SortField:
SortValue: null
Mosaic Operator: First
Default Compression Quality: 75
Default Resampling Method: Bilinear
Max Record Count: null
Max Image Height: 4100
Max Image Width: 15000
Max Download Image Count: null
Max Mosaic Image Count: null
Allow Raster Function: true
Allow Copy: true
Allow Analysis: true
Allow Compute TiePoints: false
Supports Statistics: false
Supports Advanced Queries: false
Use StandardizedQueries: true
Raster Type Infos:
Name: Raster Dataset
Description: Supports all ArcGIS Raster Datasets
Help:
Has Raster Attribute Table: false
Edit Fields Info: null
Ownership Based AccessControl For Rasters: null
Child Resources:
Info
Histograms
Statistics
Key Properties
Legend
Raster Function Infos
Supported Operations:
Export Image
Identify
Measure
Compute Histograms
Compute Statistics Histograms
Get Samples
Compute Class Statistics
Query Boundary
Compute Pixel Location
Compute Angles
Validate
Project