View In:
ArcGIS JavaScript
ArcGIS Online Map Viewer
ArcGIS Earth
ArcMap
View Footprint In:
ArcGIS Online Map Viewer
Service Description: Book 2, Map 1, Welland Canal
Name: WellandCanal/Bk2_Map1_Locks5_6_7
Description: Book 2, Map 1, Welland Canal
Single Fused Map Cache: false
Extent:
XMin: 643525.755179096
YMin: 4779130.256188263
XMax: 644526.640507096
YMax: 4780044.715308263
Spatial Reference: 26917
(26917)
Initial Extent:
XMin: 643525.755179096
YMin: 4779130.256188263
XMax: 644526.640507096
YMax: 4780044.715308263
Spatial Reference: 26917
(26917)
Full Extent:
XMin: 643525.755179096
YMin: 4779130.256188263
XMax: 644526.640507096
YMax: 4780044.715308263
Spatial Reference: 26917
(26917)
Pixel Size X: 0.21824799999998817
Pixel Size Y: 0.2182479999999478
Band Count: 3
Pixel Type: U16
RasterFunction Infos: {"rasterFunctionInfos": [{
"name": "None",
"description": "",
"help": ""
}]}
Mensuration Capabilities: Basic
Has Histograms: true
Has Colormap: false
Has Multi Dimensions : false
Rendering Rule:
Min Scale: 0
Max Scale: 0
Copyright Text:
Service Data Type: esriImageServiceDataTypeGeneric
Min Values: 0, 0, 0
Max Values: 255, 255, 228
Mean Values: 243.39812253205, 219.82314380349, 169.97435092338
Standard Deviation Values: 25.248649327874, 26.722310097534, 20.259635391107
Object ID Field:
Fields:
None
Default Mosaic Method: Center
Allowed Mosaic Methods:
SortField:
SortValue: null
Mosaic Operator: First
Default Compression Quality: 75
Default Resampling Method: Bilinear
Max Record Count: null
Max Image Height: 4100
Max Image Width: 15000
Max Download Image Count: null
Max Mosaic Image Count: null
Allow Raster Function: true
Allow Copy: true
Allow Analysis: true
Allow Compute TiePoints: false
Supports Statistics: false
Supports Advanced Queries: false
Use StandardizedQueries: true
Raster Type Infos:
Name: Raster Dataset
Description: Supports all ArcGIS Raster Datasets
Help:
Has Raster Attribute Table: false
Edit Fields Info: null
Ownership Based AccessControl For Rasters: null
Child Resources:
Info
Histograms
Statistics
Key Properties
Legend
Raster Function Infos
Supported Operations:
Export Image
Identify
Measure
Compute Histograms
Compute Statistics Histograms
Get Samples
Compute Class Statistics
Query Boundary
Compute Pixel Location
Compute Angles
Validate
Project