View In:
ArcGIS JavaScript
ArcGIS Online Map Viewer
ArcGIS Earth
ArcMap
View Footprint In:
ArcGIS Online Map Viewer
Service Description: Book 2, Map 2, Locks 9-10, Welland Canal
Name: WellandCanal/Bk2_Map2_Locks9_10
Description: Book 2, Map 2, Locks 9-10, Welland Canal
Single Fused Map Cache: false
Extent:
XMin: 644430.60110074
YMin: 4778425.901742171
XMax: 645167.59780074
YMax: 4779461.28857817
Spatial Reference: 26917
(26917)
Initial Extent:
XMin: 644430.60110074
YMin: 4778425.901742171
XMax: 645167.59780074
YMax: 4779461.28857817
Spatial Reference: 26917
(26917)
Full Extent:
XMin: 644430.60110074
YMin: 4778425.901742171
XMax: 645167.59780074
YMax: 4779461.28857817
Spatial Reference: 26917
(26917)
Pixel Size X: 0.14964400000000364
Pixel Size Y: 0.1496439999999692
Band Count: 3
Pixel Type: U16
RasterFunction Infos: {"rasterFunctionInfos": [{
"name": "None",
"description": "",
"help": ""
}]}
Mensuration Capabilities: Basic
Has Histograms: true
Has Colormap: false
Has Multi Dimensions : false
Rendering Rule:
Min Scale: 0
Max Scale: 0
Copyright Text:
Service Data Type: esriImageServiceDataTypeGeneric
Min Values: 0, 0, 0
Max Values: 255, 255, 255
Mean Values: 241.26931133364, 220.0971640332, 176.47085113871
Standard Deviation Values: 29.925395039397, 31.979401083102, 26.892310854717
Object ID Field:
Fields:
None
Default Mosaic Method: Center
Allowed Mosaic Methods:
SortField:
SortValue: null
Mosaic Operator: First
Default Compression Quality: 75
Default Resampling Method: Bilinear
Max Record Count: null
Max Image Height: 4100
Max Image Width: 15000
Max Download Image Count: null
Max Mosaic Image Count: null
Allow Raster Function: true
Allow Copy: true
Allow Analysis: true
Allow Compute TiePoints: false
Supports Statistics: false
Supports Advanced Queries: false
Use StandardizedQueries: true
Raster Type Infos:
Name: Raster Dataset
Description: Supports all ArcGIS Raster Datasets
Help:
Has Raster Attribute Table: false
Edit Fields Info: null
Ownership Based AccessControl For Rasters: null
Child Resources:
Info
Histograms
Statistics
Key Properties
Legend
Raster Function Infos
Supported Operations:
Export Image
Identify
Measure
Compute Histograms
Compute Statistics Histograms
Get Samples
Compute Class Statistics
Query Boundary
Compute Pixel Location
Compute Angles
Validate
Project