View In:
ArcGIS JavaScript
ArcGIS Online Map Viewer
ArcGIS Earth
ArcMap
View Footprint In:
ArcGIS Online Map Viewer
Service Description: Book 2, Map 3, Locks 8-10, Welland Canal
Name: WellandCanal/Bk2_Map3_Locks8_9_10
Description: Book 2, Map 3, Locks 8-10, Welland Canal
Single Fused Map Cache: false
Extent:
XMin: 644099.2723700289
YMin: 4778306.554589188
XMax: 645089.4590430289
YMax: 4779327.415643188
Spatial Reference: 26917
(26917)
Initial Extent:
XMin: 644099.2723700289
YMin: 4778306.554589188
XMax: 645089.4590430289
YMax: 4779327.415643188
Spatial Reference: 26917
(26917)
Full Extent:
XMin: 644099.2723700289
YMin: 4778306.554589188
XMax: 645089.4590430289
YMax: 4779327.415643188
Spatial Reference: 26917
(26917)
Pixel Size X: 0.2206789999999976
Pixel Size Y: 0.22067900000009613
Band Count: 3
Pixel Type: U16
RasterFunction Infos: {"rasterFunctionInfos": [{
"name": "None",
"description": "",
"help": ""
}]}
Mensuration Capabilities: Basic
Has Histograms: true
Has Colormap: false
Has Multi Dimensions : false
Rendering Rule:
Min Scale: 0
Max Scale: 0
Copyright Text:
Service Data Type: esriImageServiceDataTypeGeneric
Min Values: 0, 0, 0
Max Values: 255, 255, 217
Mean Values: 241.28872381718, 219.10389638835, 173.4843751554
Standard Deviation Values: 28.348263080532, 29.073708807335, 21.460470467323
Object ID Field:
Fields:
None
Default Mosaic Method: Center
Allowed Mosaic Methods:
SortField:
SortValue: null
Mosaic Operator: First
Default Compression Quality: 75
Default Resampling Method: Bilinear
Max Record Count: null
Max Image Height: 4100
Max Image Width: 15000
Max Download Image Count: null
Max Mosaic Image Count: null
Allow Raster Function: true
Allow Copy: true
Allow Analysis: true
Allow Compute TiePoints: false
Supports Statistics: false
Supports Advanced Queries: false
Use StandardizedQueries: true
Raster Type Infos:
Name: Raster Dataset
Description: Supports all ArcGIS Raster Datasets
Help:
Has Raster Attribute Table: false
Edit Fields Info: null
Ownership Based AccessControl For Rasters: null
Child Resources:
Info
Histograms
Statistics
Key Properties
Legend
Raster Function Infos
Supported Operations:
Export Image
Identify
Measure
Compute Histograms
Compute Statistics Histograms
Get Samples
Compute Class Statistics
Query Boundary
Compute Pixel Location
Compute Angles
Validate
Project