View In:
ArcGIS JavaScript
ArcGIS Online Map Viewer
ArcGIS Earth
ArcMap
View Footprint In:
ArcGIS Online Map Viewer
Service Description: Book 2, Map 5, Locks 16-18, Welland Canal
Name: WellandCanal/Bk2_Map5_Locks16_17_18
Description: Book 2, Map 5, Locks 16-18, Welland Canal
Single Fused Map Cache: false
Extent:
XMin: 644769.707534538
YMin: 4776377.861513239
XMax: 645797.014314538
YMax: 4777621.687849239
Spatial Reference: 26917
(26917)
Initial Extent:
XMin: 644769.707534538
YMin: 4776377.861513239
XMax: 645797.014314538
YMax: 4777621.687849239
Spatial Reference: 26917
(26917)
Full Extent:
XMin: 644769.707534538
YMin: 4776377.861513239
XMax: 645797.014314538
YMax: 4777621.687849239
Spatial Reference: 26917
(26917)
Pixel Size X: 0.22116399999999664
Pixel Size Y: 0.2211640000000204
Band Count: 3
Pixel Type: U16
RasterFunction Infos: {"rasterFunctionInfos": [{
"name": "None",
"description": "",
"help": ""
}]}
Mensuration Capabilities: Basic
Has Histograms: true
Has Colormap: false
Has Multi Dimensions : false
Rendering Rule:
Min Scale: 0
Max Scale: 0
Copyright Text:
Service Data Type: esriImageServiceDataTypeGeneric
Min Values: 0, 0, 0
Max Values: 255, 253, 243
Mean Values: 238.16980738421, 211.98550421699, 164.14080123486
Standard Deviation Values: 28.725967621542, 28.791941897424, 22.039419703429
Object ID Field:
Fields:
None
Default Mosaic Method: Center
Allowed Mosaic Methods:
SortField:
SortValue: null
Mosaic Operator: First
Default Compression Quality: 75
Default Resampling Method: Bilinear
Max Record Count: null
Max Image Height: 4100
Max Image Width: 15000
Max Download Image Count: null
Max Mosaic Image Count: null
Allow Raster Function: true
Allow Copy: true
Allow Analysis: true
Allow Compute TiePoints: false
Supports Statistics: false
Supports Advanced Queries: false
Use StandardizedQueries: true
Raster Type Infos:
Name: Raster Dataset
Description: Supports all ArcGIS Raster Datasets
Help:
Has Raster Attribute Table: false
Edit Fields Info: null
Ownership Based AccessControl For Rasters: null
Child Resources:
Info
Histograms
Statistics
Key Properties
Legend
Raster Function Infos
Supported Operations:
Export Image
Identify
Measure
Compute Histograms
Compute Statistics Histograms
Get Samples
Compute Class Statistics
Query Boundary
Compute Pixel Location
Compute Angles
Validate
Project