View In:
ArcGIS JavaScript
ArcGIS Online Map Viewer
ArcGIS Earth
ArcMap
View Footprint In:
ArcGIS Online Map Viewer
Service Description: Book 2, Map 6, Locks 19 - 22, Welland Canal
Name: WellandCanal/Bk2_Map6_Locks19_20_21_22
Description: Book 2, Map 6, Locks 19 - 22, Welland Canal
Single Fused Map Cache: false
Extent:
XMin: 645652.6440850552
YMin: 4776690.718731061
XMax: 646668.6347950553
YMax: 4778077.768771061
Spatial Reference: 26917
(26917)
Initial Extent:
XMin: 645652.6440850552
YMin: 4776690.718731061
XMax: 646668.6347950553
YMax: 4778077.768771061
Spatial Reference: 26917
(26917)
Full Extent:
XMin: 645652.6440850552
YMin: 4776690.718731061
XMax: 646668.6347950553
YMax: 4778077.768771061
Spatial Reference: 26917
(26917)
Pixel Size X: 0.21313000000000878
Pixel Size Y: 0.2131300000000182
Band Count: 3
Pixel Type: U16
RasterFunction Infos: {"rasterFunctionInfos": [{
"name": "None",
"description": "",
"help": ""
}]}
Mensuration Capabilities: Basic
Has Histograms: true
Has Colormap: false
Has Multi Dimensions : false
Rendering Rule:
Min Scale: 0
Max Scale: 0
Copyright Text:
Service Data Type: esriImageServiceDataTypeGeneric
Min Values: 0, 0, 0
Max Values: 255, 254, 249
Mean Values: 238.25322969102, 213.2368971444, 166.00209970273
Standard Deviation Values: 29.233210369681, 29.519546500891, 23.836201865436
Object ID Field:
Fields:
None
Default Mosaic Method: Center
Allowed Mosaic Methods:
SortField:
SortValue: null
Mosaic Operator: First
Default Compression Quality: 75
Default Resampling Method: Bilinear
Max Record Count: null
Max Image Height: 4100
Max Image Width: 15000
Max Download Image Count: null
Max Mosaic Image Count: null
Allow Raster Function: true
Allow Copy: true
Allow Analysis: true
Allow Compute TiePoints: false
Supports Statistics: false
Supports Advanced Queries: false
Use StandardizedQueries: true
Raster Type Infos:
Name: Raster Dataset
Description: Supports all ArcGIS Raster Datasets
Help:
Has Raster Attribute Table: false
Edit Fields Info: null
Ownership Based AccessControl For Rasters: null
Child Resources:
Info
Histograms
Statistics
Key Properties
Legend
Raster Function Infos
Supported Operations:
Export Image
Identify
Measure
Compute Histograms
Compute Statistics Histograms
Get Samples
Compute Class Statistics
Query Boundary
Compute Pixel Location
Compute Angles
Validate
Project