View In:
ArcGIS JavaScript
ArcGIS Online Map Viewer
ArcGIS Earth
ArcMap
View Footprint In:
ArcGIS Online Map Viewer
Service Description: Book 2, Map 7, Locks 23-25, Welland Canal
Name: WellandCanal/Bk2_Map7_Locks23_24_25
Description: Book 2, Map 7, Locks 23-25, Welland Canal
Single Fused Map Cache: false
Extent:
XMin: 645875.644760924
YMin: 4775378.94189066
XMax: 646962.7702689241
YMax: 4776799.69060066
Spatial Reference: 26917
(26917)
Initial Extent:
XMin: 645875.644760924
YMin: 4775378.94189066
XMax: 646962.7702689241
YMax: 4776799.69060066
Spatial Reference: 26917
(26917)
Full Extent:
XMin: 645875.644760924
YMin: 4775378.94189066
XMax: 646962.7702689241
YMax: 4776799.69060066
Spatial Reference: 26917
(26917)
Pixel Size X: 0.21510200000000523
Pixel Size Y: 0.21510199999999335
Band Count: 3
Pixel Type: U16
RasterFunction Infos: {"rasterFunctionInfos": [{
"name": "None",
"description": "",
"help": ""
}]}
Mensuration Capabilities: Basic
Has Histograms: true
Has Colormap: false
Has Multi Dimensions : false
Rendering Rule:
Min Scale: 0
Max Scale: 0
Copyright Text:
Service Data Type: esriImageServiceDataTypeGeneric
Min Values: 14, 48, 18
Max Values: 255, 255, 255
Mean Values: 226.11326526713, 204.56162445921, 155.26119606967
Standard Deviation Values: 22.914441790774, 20.09214732084, 19.389856521902
Object ID Field:
Fields:
None
Default Mosaic Method: Center
Allowed Mosaic Methods:
SortField:
SortValue: null
Mosaic Operator: First
Default Compression Quality: 75
Default Resampling Method: Bilinear
Max Record Count: null
Max Image Height: 4100
Max Image Width: 15000
Max Download Image Count: null
Max Mosaic Image Count: null
Allow Raster Function: true
Allow Copy: true
Allow Analysis: true
Allow Compute TiePoints: false
Supports Statistics: false
Supports Advanced Queries: false
Use StandardizedQueries: true
Raster Type Infos:
Name: Raster Dataset
Description: Supports all ArcGIS Raster Datasets
Help:
Has Raster Attribute Table: false
Edit Fields Info: null
Ownership Based AccessControl For Rasters: null
Child Resources:
Info
Histograms
Statistics
Key Properties
Legend
Raster Function Infos
Supported Operations:
Export Image
Identify
Measure
Compute Histograms
Compute Statistics Histograms
Get Samples
Compute Class Statistics
Query Boundary
Compute Pixel Location
Compute Angles
Validate
Project