View In:
ArcGIS JavaScript
ArcGIS Online Map Viewer
ArcGIS Earth
ArcMap
View Footprint In:
ArcGIS Online Map Viewer
Service Description: Book 2, Map 9a, Welland Canal
Name: WellandCanal/Bk2_Map9a
Description: Book 2, Map 9a, Welland Canal
Single Fused Map Cache: false
Extent:
XMin: 646600.3230235206
YMin: 4774167.324800549
XMax: 647714.1973025206
YMax: 4775693.87962555
Spatial Reference: 26917
(26917)
Initial Extent:
XMin: 646600.3230235206
YMin: 4774167.324800549
XMax: 647714.1973025206
YMax: 4775693.87962555
Spatial Reference: 26917
(26917)
Full Extent:
XMin: 646600.3230235206
YMin: 4774167.324800549
XMax: 647714.1973025206
YMax: 4775693.87962555
Spatial Reference: 26917
(26917)
Pixel Size X: 0.22699699999999623
Pixel Size Y: 0.22699700000006914
Band Count: 3
Pixel Type: U16
RasterFunction Infos: {"rasterFunctionInfos": [{
"name": "None",
"description": "",
"help": ""
}]}
Mensuration Capabilities: Basic
Has Histograms: true
Has Colormap: false
Has Multi Dimensions : false
Rendering Rule:
Min Scale: 0
Max Scale: 0
Copyright Text:
Service Data Type: esriImageServiceDataTypeGeneric
Min Values: 0, 0, 0
Max Values: 255, 255, 255
Mean Values: 244.55283342103, 231.52643777123, 196.47434172315
Standard Deviation Values: 21.853438061828, 24.257300514109, 37.307478939408
Object ID Field:
Fields:
None
Default Mosaic Method: Center
Allowed Mosaic Methods:
SortField:
SortValue: null
Mosaic Operator: First
Default Compression Quality: 75
Default Resampling Method: Bilinear
Max Record Count: null
Max Image Height: 4100
Max Image Width: 15000
Max Download Image Count: null
Max Mosaic Image Count: null
Allow Raster Function: true
Allow Copy: true
Allow Analysis: true
Allow Compute TiePoints: false
Supports Statistics: false
Supports Advanced Queries: false
Use StandardizedQueries: true
Raster Type Infos:
Name: Raster Dataset
Description: Supports all ArcGIS Raster Datasets
Help:
Has Raster Attribute Table: false
Edit Fields Info: null
Ownership Based AccessControl For Rasters: null
Child Resources:
Info
Histograms
Statistics
Key Properties
Legend
Raster Function Infos
Supported Operations:
Export Image
Identify
Measure
Compute Histograms
Compute Statistics Histograms
Get Samples
Compute Class Statistics
Query Boundary
Compute Pixel Location
Compute Angles
Validate
Project