View In:
ArcGIS JavaScript
ArcGIS Online Map Viewer
ArcGIS Earth
ArcMap
View Footprint In:
ArcGIS Online Map Viewer
Service Description: Book 2, Map 9b, Welland Canal
Name: WellandCanal/Bk2_Map9b
Description: Book 2, Map 9b, Welland Canal
Single Fused Map Cache: false
Extent:
XMin: 647569.9423216509
YMin: 4774438.3362192
XMax: 648091.3914586509
YMax: 4774983.9557112
Spatial Reference: 26917
(26917)
Initial Extent:
XMin: 647569.9423216509
YMin: 4774438.3362192
XMax: 648091.3914586509
YMax: 4774983.9557112
Spatial Reference: 26917
(26917)
Full Extent:
XMin: 647569.9423216509
YMin: 4774438.3362192
XMax: 648091.3914586509
YMax: 4774983.9557112
Spatial Reference: 26917
(26917)
Pixel Size X: 0.21017700000000716
Pixel Size Y: 0.210176999999988
Band Count: 3
Pixel Type: U16
RasterFunction Infos: {"rasterFunctionInfos": [{
"name": "None",
"description": "",
"help": ""
}]}
Mensuration Capabilities: Basic
Has Histograms: true
Has Colormap: false
Has Multi Dimensions : false
Rendering Rule:
Min Scale: 0
Max Scale: 0
Copyright Text:
Service Data Type: esriImageServiceDataTypeGeneric
Min Values: 29, 54, 26
Max Values: 255, 255, 255
Mean Values: 244.33359266792, 229.06731280326, 186.75394227974
Standard Deviation Values: 19.806243587803, 20.069298290925, 24.257449720337
Object ID Field:
Fields:
None
Default Mosaic Method: Center
Allowed Mosaic Methods:
SortField:
SortValue: null
Mosaic Operator: First
Default Compression Quality: 75
Default Resampling Method: Bilinear
Max Record Count: null
Max Image Height: 4100
Max Image Width: 15000
Max Download Image Count: null
Max Mosaic Image Count: null
Allow Raster Function: true
Allow Copy: true
Allow Analysis: true
Allow Compute TiePoints: false
Supports Statistics: false
Supports Advanced Queries: false
Use StandardizedQueries: true
Raster Type Infos:
Name: Raster Dataset
Description: Supports all ArcGIS Raster Datasets
Help:
Has Raster Attribute Table: false
Edit Fields Info: null
Ownership Based AccessControl For Rasters: null
Child Resources:
Info
Histograms
Statistics
Key Properties
Legend
Raster Function Infos
Supported Operations:
Export Image
Identify
Measure
Compute Histograms
Compute Statistics Histograms
Get Samples
Compute Class Statistics
Query Boundary
Compute Pixel Location
Compute Angles
Validate
Project