View In:
ArcGIS JavaScript
ArcGIS Online Map Viewer
ArcGIS Earth
ArcMap
View Footprint In:
ArcGIS Online Map Viewer
Service Description: Book 3, Map 1, Welland Canal
Name: WellandCanal/Bk3_Map1
Description: Book 3, Map 1, Welland Canal
Single Fused Map Cache: false
Extent:
XMin: 645738.5520678002
YMin: 4766246.43847007
XMax: 646421.9141458002
YMax: 4767269.711983071
Spatial Reference: 26917
(26917)
Initial Extent:
XMin: 645738.5520678002
YMin: 4766246.43847007
XMax: 646421.9141458002
YMax: 4767269.711983071
Spatial Reference: 26917
(26917)
Full Extent:
XMin: 645738.5520678002
YMin: 4766246.43847007
XMax: 646421.9141458002
YMax: 4767269.711983071
Spatial Reference: 26917
(26917)
Pixel Size X: 0.1474669999999949
Pixel Size Y: 0.14746700000006607
Band Count: 3
Pixel Type: U16
RasterFunction Infos: {"rasterFunctionInfos": [{
"name": "None",
"description": "",
"help": ""
}]}
Mensuration Capabilities: Basic
Has Histograms: true
Has Colormap: false
Has Multi Dimensions : false
Rendering Rule:
Min Scale: 0
Max Scale: 0
Copyright Text:
Service Data Type: esriImageServiceDataTypeGeneric
Min Values: 0, 0, 0
Max Values: 255, 255, 255
Mean Values: 239.64197358977, 208.12883872183, 164.29186647687
Standard Deviation Values: 28.060129557684, 25.688653107067, 21.393450562484
Object ID Field:
Fields:
None
Default Mosaic Method: Center
Allowed Mosaic Methods:
SortField:
SortValue: null
Mosaic Operator: First
Default Compression Quality: 75
Default Resampling Method: Bilinear
Max Record Count: null
Max Image Height: 4100
Max Image Width: 15000
Max Download Image Count: null
Max Mosaic Image Count: null
Allow Raster Function: true
Allow Copy: true
Allow Analysis: true
Allow Compute TiePoints: false
Supports Statistics: false
Supports Advanced Queries: false
Use StandardizedQueries: true
Raster Type Infos:
Name: Raster Dataset
Description: Supports all ArcGIS Raster Datasets
Help:
Has Raster Attribute Table: false
Edit Fields Info: null
Ownership Based AccessControl For Rasters: null
Child Resources:
Info
Histograms
Statistics
Key Properties
Legend
Raster Function Infos
Supported Operations:
Export Image
Identify
Measure
Compute Histograms
Compute Statistics Histograms
Get Samples
Compute Class Statistics
Query Boundary
Compute Pixel Location
Compute Angles
Validate
Project