View In:
ArcGIS JavaScript
ArcGIS Online Map Viewer
ArcGIS Earth
ArcMap
View Footprint In:
ArcGIS Online Map Viewer
Service Description: Book 3, Map 10, Welland Canal
Name: WellandCanal/Bk3_Map10
Description: Book 3, Map 10, Welland Canal
Single Fused Map Cache: false
Extent:
XMin: 642879.1720225546
YMin: 4762519.659443989
XMax: 643856.6475315546
YMax: 4763974.555905989
Spatial Reference: 26917
(26917)
Initial Extent:
XMin: 642879.1720225546
YMin: 4762519.659443989
XMax: 643856.6475315546
YMax: 4763974.555905989
Spatial Reference: 26917
(26917)
Full Extent:
XMin: 642879.1720225546
YMin: 4762519.659443989
XMax: 643856.6475315546
YMax: 4763974.555905989
Spatial Reference: 26917
(26917)
Pixel Size X: 0.21152900000000233
Pixel Size Y: 0.2115289999999964
Band Count: 3
Pixel Type: U16
RasterFunction Infos: {"rasterFunctionInfos": [{
"name": "None",
"description": "",
"help": ""
}]}
Mensuration Capabilities: Basic
Has Histograms: true
Has Colormap: false
Has Multi Dimensions : false
Rendering Rule:
Min Scale: 0
Max Scale: 0
Copyright Text:
Service Data Type: esriImageServiceDataTypeGeneric
Min Values: 18, 48, 26
Max Values: 255, 255, 255
Mean Values: 246.38325991516, 234.37362182001, 190.62497299472
Standard Deviation Values: 20.794750233651, 19.429469528095, 17.568821323946
Object ID Field:
Fields:
None
Default Mosaic Method: Center
Allowed Mosaic Methods:
SortField:
SortValue: null
Mosaic Operator: First
Default Compression Quality: 75
Default Resampling Method: Bilinear
Max Record Count: null
Max Image Height: 4100
Max Image Width: 15000
Max Download Image Count: null
Max Mosaic Image Count: null
Allow Raster Function: true
Allow Copy: true
Allow Analysis: true
Allow Compute TiePoints: false
Supports Statistics: false
Supports Advanced Queries: false
Use StandardizedQueries: true
Raster Type Infos:
Name: Raster Dataset
Description: Supports all ArcGIS Raster Datasets
Help:
Has Raster Attribute Table: false
Edit Fields Info: null
Ownership Based AccessControl For Rasters: null
Child Resources:
Info
Histograms
Statistics
Key Properties
Legend
Raster Function Infos
Supported Operations:
Export Image
Identify
Measure
Compute Histograms
Compute Statistics Histograms
Get Samples
Compute Class Statistics
Query Boundary
Compute Pixel Location
Compute Angles
Validate
Project