View In:
ArcGIS JavaScript
ArcGIS Online Map Viewer
ArcGIS Earth
ArcMap
View Footprint In:
ArcGIS Online Map Viewer
Service Description: Book 3, Map 15, Welland Canal
Name: WellandCanal/Bk3_Map15
Description: Book 3, Map 15, Welland Canal
Single Fused Map Cache: false
Extent:
XMin: 641741.8748482431
YMin: 4758295.871120079
XMax: 642841.989383243
YMax: 4759758.360785079
Spatial Reference: 26917
(26917)
Initial Extent:
XMin: 641741.8748482431
YMin: 4758295.871120079
XMax: 642841.989383243
YMax: 4759758.360785079
Spatial Reference: 26917
(26917)
Full Extent:
XMin: 641741.8748482431
YMin: 4758295.871120079
XMax: 642841.989383243
YMax: 4759758.360785079
Spatial Reference: 26917
(26917)
Pixel Size X: 0.22015499999998847
Pixel Size Y: 0.2201549999999651
Band Count: 3
Pixel Type: U16
RasterFunction Infos: {"rasterFunctionInfos": [{
"name": "None",
"description": "",
"help": ""
}]}
Mensuration Capabilities: Basic
Has Histograms: true
Has Colormap: false
Has Multi Dimensions : false
Rendering Rule:
Min Scale: 0
Max Scale: 0
Copyright Text:
Service Data Type: esriImageServiceDataTypeGeneric
Min Values: 0, 0, 0
Max Values: 255, 255, 255
Mean Values: 245.8286661625, 237.41670768499, 193.92320515386
Standard Deviation Values: 23.340436221219, 21.541282745637, 19.249112912365
Object ID Field:
Fields:
None
Default Mosaic Method: Center
Allowed Mosaic Methods:
SortField:
SortValue: null
Mosaic Operator: First
Default Compression Quality: 75
Default Resampling Method: Bilinear
Max Record Count: null
Max Image Height: 4100
Max Image Width: 15000
Max Download Image Count: null
Max Mosaic Image Count: null
Allow Raster Function: true
Allow Copy: true
Allow Analysis: true
Allow Compute TiePoints: false
Supports Statistics: false
Supports Advanced Queries: false
Use StandardizedQueries: true
Raster Type Infos:
Name: Raster Dataset
Description: Supports all ArcGIS Raster Datasets
Help:
Has Raster Attribute Table: false
Edit Fields Info: null
Ownership Based AccessControl For Rasters: null
Child Resources:
Info
Histograms
Statistics
Key Properties
Legend
Raster Function Infos
Supported Operations:
Export Image
Identify
Measure
Compute Histograms
Compute Statistics Histograms
Get Samples
Compute Class Statistics
Query Boundary
Compute Pixel Location
Compute Angles
Validate
Project