View In:
ArcGIS JavaScript
ArcGIS Online Map Viewer
ArcGIS Earth
ArcMap
View Footprint In:
ArcGIS Online Map Viewer
Service Description: Book 3, Map 16, Welland Canal
Name: WellandCanal/Bk3_Map16
Description: Book 3, Map 16, Welland Canal
Single Fused Map Cache: false
Extent:
XMin: 641861.130811952
YMin: 4756391.385455405
XMax: 643289.417802952
YMax: 4758578.914946405
Spatial Reference: 26917
(26917)
Initial Extent:
XMin: 641861.130811952
YMin: 4756391.385455405
XMax: 643289.417802952
YMax: 4758578.914946405
Spatial Reference: 26917
(26917)
Full Extent:
XMin: 641861.130811952
YMin: 4756391.385455405
XMax: 643289.417802952
YMax: 4758578.914946405
Spatial Reference: 26917
(26917)
Pixel Size X: 0.3036969999999878
Pixel Size Y: 0.303696999999983
Band Count: 3
Pixel Type: U16
RasterFunction Infos: {"rasterFunctionInfos": [{
"name": "None",
"description": "",
"help": ""
}]}
Mensuration Capabilities: Basic
Has Histograms: true
Has Colormap: false
Has Multi Dimensions : false
Rendering Rule:
Min Scale: 0
Max Scale: 0
Copyright Text:
Service Data Type: esriImageServiceDataTypeGeneric
Min Values: 0, 0, 0
Max Values: 255, 255, 255
Mean Values: 248.86986191751, 236.03946662868, 192.91199081692
Standard Deviation Values: 22.012320456883, 20.189767377741, 18.735796792267
Object ID Field:
Fields:
None
Default Mosaic Method: Center
Allowed Mosaic Methods:
SortField:
SortValue: null
Mosaic Operator: First
Default Compression Quality: 75
Default Resampling Method: Bilinear
Max Record Count: null
Max Image Height: 4100
Max Image Width: 15000
Max Download Image Count: null
Max Mosaic Image Count: null
Allow Raster Function: true
Allow Copy: true
Allow Analysis: true
Allow Compute TiePoints: false
Supports Statistics: false
Supports Advanced Queries: false
Use StandardizedQueries: true
Raster Type Infos:
Name: Raster Dataset
Description: Supports all ArcGIS Raster Datasets
Help:
Has Raster Attribute Table: false
Edit Fields Info: null
Ownership Based AccessControl For Rasters: null
Child Resources:
Info
Histograms
Statistics
Key Properties
Legend
Raster Function Infos
Supported Operations:
Export Image
Identify
Measure
Compute Histograms
Compute Statistics Histograms
Get Samples
Compute Class Statistics
Query Boundary
Compute Pixel Location
Compute Angles
Validate
Project