View In:
ArcGIS JavaScript
ArcGIS Online Map Viewer
ArcGIS Earth
ArcMap
View Footprint In:
ArcGIS Online Map Viewer
Service Description: Book 3, Map 17, Welland Canal
Name: WellandCanal/Bk3_Map17
Description: Book 3, Map 17, Welland Canal
Single Fused Map Cache: false
Extent:
XMin: 642430.9237150565
YMin: 4754343.113259682
XMax: 643869.5924500565
YMax: 4756529.975244682
Spatial Reference: 26917
(26917)
Initial Extent:
XMin: 642430.9237150565
YMin: 4754343.113259682
XMax: 643869.5924500565
YMax: 4756529.975244682
Spatial Reference: 26917
(26917)
Full Extent:
XMin: 642430.9237150565
YMin: 4754343.113259682
XMax: 643869.5924500565
YMax: 4756529.975244682
Spatial Reference: 26917
(26917)
Pixel Size X: 0.3053849999999906
Pixel Size Y: 0.3053849999999791
Band Count: 3
Pixel Type: U16
RasterFunction Infos: {"rasterFunctionInfos": [{
"name": "None",
"description": "",
"help": ""
}]}
Mensuration Capabilities: Basic
Has Histograms: true
Has Colormap: false
Has Multi Dimensions : false
Rendering Rule:
Min Scale: 0
Max Scale: 0
Copyright Text:
Service Data Type: esriImageServiceDataTypeGeneric
Min Values: 23, 50, 25
Max Values: 255, 255, 255
Mean Values: 248.15060262297, 239.83883656663, 197.94132281863
Standard Deviation Values: 22.09199049386, 20.130103963861, 18.537313360894
Object ID Field:
Fields:
None
Default Mosaic Method: Center
Allowed Mosaic Methods:
SortField:
SortValue: null
Mosaic Operator: First
Default Compression Quality: 75
Default Resampling Method: Bilinear
Max Record Count: null
Max Image Height: 4100
Max Image Width: 15000
Max Download Image Count: null
Max Mosaic Image Count: null
Allow Raster Function: true
Allow Copy: true
Allow Analysis: true
Allow Compute TiePoints: false
Supports Statistics: false
Supports Advanced Queries: false
Use StandardizedQueries: true
Raster Type Infos:
Name: Raster Dataset
Description: Supports all ArcGIS Raster Datasets
Help:
Has Raster Attribute Table: false
Edit Fields Info: null
Ownership Based AccessControl For Rasters: null
Child Resources:
Info
Histograms
Statistics
Key Properties
Legend
Raster Function Infos
Supported Operations:
Export Image
Identify
Measure
Compute Histograms
Compute Statistics Histograms
Get Samples
Compute Class Statistics
Query Boundary
Compute Pixel Location
Compute Angles
Validate
Project