View In:
ArcGIS JavaScript
ArcGIS Online Map Viewer
ArcGIS Earth
ArcMap
View Footprint In:
ArcGIS Online Map Viewer
Service Description: Book 3, Map 18, Welland Canal
Name: WellandCanal/Bk3_Map18
Description: Book 3, Map 18, Welland Canal
Single Fused Map Cache: false
Extent:
XMin: 642494.9706366294
YMin: 4752274.032344192
XMax: 644008.1657866294
YMax: 4754480.489272192
Spatial Reference: 26917
(26917)
Initial Extent:
XMin: 642494.9706366294
YMin: 4752274.032344192
XMax: 644008.1657866294
YMax: 4754480.489272192
Spatial Reference: 26917
(26917)
Full Extent:
XMin: 642494.9706366294
YMin: 4752274.032344192
XMax: 644008.1657866294
YMax: 4754480.489272192
Spatial Reference: 26917
(26917)
Pixel Size X: 0.3119990000000089
Pixel Size Y: 0.3119989999999794
Band Count: 3
Pixel Type: U16
RasterFunction Infos: {"rasterFunctionInfos": [{
"name": "None",
"description": "",
"help": ""
}]}
Mensuration Capabilities: Basic
Has Histograms: true
Has Colormap: false
Has Multi Dimensions : false
Rendering Rule:
Min Scale: 0
Max Scale: 0
Copyright Text:
Service Data Type: esriImageServiceDataTypeGeneric
Min Values: 24, 53, 28
Max Values: 255, 255, 255
Mean Values: 249.41426251302, 242.67799070714, 203.05099677429
Standard Deviation Values: 20.404264595349, 20.057499192593, 20.005304686145
Object ID Field:
Fields:
None
Default Mosaic Method: Center
Allowed Mosaic Methods:
SortField:
SortValue: null
Mosaic Operator: First
Default Compression Quality: 75
Default Resampling Method: Bilinear
Max Record Count: null
Max Image Height: 4100
Max Image Width: 15000
Max Download Image Count: null
Max Mosaic Image Count: null
Allow Raster Function: true
Allow Copy: true
Allow Analysis: true
Allow Compute TiePoints: false
Supports Statistics: false
Supports Advanced Queries: false
Use StandardizedQueries: true
Raster Type Infos:
Name: Raster Dataset
Description: Supports all ArcGIS Raster Datasets
Help:
Has Raster Attribute Table: false
Edit Fields Info: null
Ownership Based AccessControl For Rasters: null
Child Resources:
Info
Histograms
Statistics
Key Properties
Legend
Raster Function Infos
Supported Operations:
Export Image
Identify
Measure
Compute Histograms
Compute Statistics Histograms
Get Samples
Compute Class Statistics
Query Boundary
Compute Pixel Location
Compute Angles
Validate
Project