View In:
ArcGIS JavaScript
ArcGIS Online Map Viewer
ArcGIS Earth
ArcMap
View Footprint In:
ArcGIS Online Map Viewer
Service Description: Book 3, Map 2, Welland Canal
Name: WellandCanal/Bk3_Map2
Description: Book 3, Map 2, Welland Canal
Single Fused Map Cache: false
Extent:
XMin: 645409.8220523436
YMin: 4766127.568434889
XMax: 646154.9343083437
YMax: 4767207.331398889
Spatial Reference: 26917
(26917)
Initial Extent:
XMin: 645409.8220523436
YMin: 4766127.568434889
XMax: 646154.9343083437
YMax: 4767207.331398889
Spatial Reference: 26917
(26917)
Full Extent:
XMin: 645409.8220523436
YMin: 4766127.568434889
XMax: 646154.9343083437
YMax: 4767207.331398889
Spatial Reference: 26917
(26917)
Pixel Size X: 0.15471600000001065
Pixel Size Y: 0.15471599999999916
Band Count: 3
Pixel Type: U16
RasterFunction Infos: {"rasterFunctionInfos": [{
"name": "None",
"description": "",
"help": ""
}]}
Mensuration Capabilities: Basic
Has Histograms: true
Has Colormap: false
Has Multi Dimensions : false
Rendering Rule:
Min Scale: 0
Max Scale: 0
Copyright Text:
Service Data Type: esriImageServiceDataTypeGeneric
Min Values: 19, 19, 19
Max Values: 255, 255, 255
Mean Values: 238.02468974805, 206.16572683145, 163.26232261047
Standard Deviation Values: 32.685760150125, 29.853143855824, 24.28378708357
Object ID Field:
Fields:
None
Default Mosaic Method: Center
Allowed Mosaic Methods:
SortField:
SortValue: null
Mosaic Operator: First
Default Compression Quality: 75
Default Resampling Method: Bilinear
Max Record Count: null
Max Image Height: 4100
Max Image Width: 15000
Max Download Image Count: null
Max Mosaic Image Count: null
Allow Raster Function: true
Allow Copy: true
Allow Analysis: true
Allow Compute TiePoints: false
Supports Statistics: false
Supports Advanced Queries: false
Use StandardizedQueries: true
Raster Type Infos:
Name: Raster Dataset
Description: Supports all ArcGIS Raster Datasets
Help:
Has Raster Attribute Table: false
Edit Fields Info: null
Ownership Based AccessControl For Rasters: null
Child Resources:
Info
Histograms
Statistics
Key Properties
Legend
Raster Function Infos
Supported Operations:
Export Image
Identify
Measure
Compute Histograms
Compute Statistics Histograms
Get Samples
Compute Class Statistics
Query Boundary
Compute Pixel Location
Compute Angles
Validate
Project