View In:
ArcGIS JavaScript
ArcGIS Online Map Viewer
ArcGIS Earth
ArcMap
View Footprint In:
ArcGIS Online Map Viewer
Service Description: Book 3, Map 21, Welland Canal
Name: WellandCanal/Bk3_Map21
Description: Book 3, Map 21, Welland Canal
Single Fused Map Cache: false
Extent:
XMin: 642737.7690870158
YMin: 4748387.961110725
XMax: 643477.3105820158
YMax: 4749505.960510725
Spatial Reference: 26917
(26917)
Initial Extent:
XMin: 642737.7690870158
YMin: 4748387.961110725
XMax: 643477.3105820158
YMax: 4749505.960510725
Spatial Reference: 26917
(26917)
Full Extent:
XMin: 642737.7690870158
YMin: 4748387.961110725
XMax: 643477.3105820158
YMax: 4749505.960510725
Spatial Reference: 26917
(26917)
Pixel Size X: 0.1510810000000025
Pixel Size Y: 0.15108100000001187
Band Count: 3
Pixel Type: U16
RasterFunction Infos: {"rasterFunctionInfos": [{
"name": "None",
"description": "",
"help": ""
}]}
Mensuration Capabilities: Basic
Has Histograms: true
Has Colormap: false
Has Multi Dimensions : false
Rendering Rule:
Min Scale: 0
Max Scale: 0
Copyright Text:
Service Data Type: esriImageServiceDataTypeGeneric
Min Values: 0, 0, 0
Max Values: 255, 255, 255
Mean Values: 243.37547095086, 226.85444382712, 179.24812479134
Standard Deviation Values: 28.05644800997, 24.664552706406, 21.325465519114
Object ID Field:
Fields:
None
Default Mosaic Method: Center
Allowed Mosaic Methods:
SortField:
SortValue: null
Mosaic Operator: First
Default Compression Quality: 75
Default Resampling Method: Bilinear
Max Record Count: null
Max Image Height: 4100
Max Image Width: 15000
Max Download Image Count: null
Max Mosaic Image Count: null
Allow Raster Function: true
Allow Copy: true
Allow Analysis: true
Allow Compute TiePoints: false
Supports Statistics: false
Supports Advanced Queries: false
Use StandardizedQueries: true
Raster Type Infos:
Name: Raster Dataset
Description: Supports all ArcGIS Raster Datasets
Help:
Has Raster Attribute Table: false
Edit Fields Info: null
Ownership Based AccessControl For Rasters: null
Child Resources:
Info
Histograms
Statistics
Key Properties
Legend
Raster Function Infos
Supported Operations:
Export Image
Identify
Measure
Compute Histograms
Compute Statistics Histograms
Get Samples
Compute Class Statistics
Query Boundary
Compute Pixel Location
Compute Angles
Validate
Project