View In:
ArcGIS JavaScript
ArcGIS Online Map Viewer
ArcGIS Earth
ArcMap
View Footprint In:
ArcGIS Online Map Viewer
Service Description: Book 3, Map 3, Welland Canal
Name: WellandCanal/Bk3_Map3
Description: Book 3, Map 3, Welland Canal
Single Fused Map Cache: false
Extent:
XMin: 644943.4613539381
YMin: 4766655.629360602
XMax: 645679.8783799381
YMax: 4767675.109511603
Spatial Reference: 26917
(26917)
Initial Extent:
XMin: 644943.4613539381
YMin: 4766655.629360602
XMax: 645679.8783799381
YMax: 4767675.109511603
Spatial Reference: 26917
(26917)
Full Extent:
XMin: 644943.4613539381
YMin: 4766655.629360602
XMax: 645679.8783799381
YMax: 4767675.109511603
Spatial Reference: 26917
(26917)
Pixel Size X: 0.1509669999999961
Pixel Size Y: 0.15096700000006408
Band Count: 3
Pixel Type: U16
RasterFunction Infos: {"rasterFunctionInfos": [{
"name": "None",
"description": "",
"help": ""
}]}
Mensuration Capabilities: Basic
Has Histograms: true
Has Colormap: false
Has Multi Dimensions : false
Rendering Rule:
Min Scale: 0
Max Scale: 0
Copyright Text:
Service Data Type: esriImageServiceDataTypeGeneric
Min Values: 0, 0, 0
Max Values: 255, 255, 255
Mean Values: 247.90787946467, 235.423143494, 191.30588285328
Standard Deviation Values: 22.285389430024, 21.49764385286, 19.435541473715
Object ID Field:
Fields:
None
Default Mosaic Method: Center
Allowed Mosaic Methods:
SortField:
SortValue: null
Mosaic Operator: First
Default Compression Quality: 75
Default Resampling Method: Bilinear
Max Record Count: null
Max Image Height: 4100
Max Image Width: 15000
Max Download Image Count: null
Max Mosaic Image Count: null
Allow Raster Function: true
Allow Copy: true
Allow Analysis: true
Allow Compute TiePoints: false
Supports Statistics: false
Supports Advanced Queries: false
Use StandardizedQueries: true
Raster Type Infos:
Name: Raster Dataset
Description: Supports all ArcGIS Raster Datasets
Help:
Has Raster Attribute Table: false
Edit Fields Info: null
Ownership Based AccessControl For Rasters: null
Child Resources:
Info
Histograms
Statistics
Key Properties
Legend
Raster Function Infos
Supported Operations:
Export Image
Identify
Measure
Compute Histograms
Compute Statistics Histograms
Get Samples
Compute Class Statistics
Query Boundary
Compute Pixel Location
Compute Angles
Validate
Project