View In:
ArcGIS JavaScript
ArcGIS Online Map Viewer
ArcGIS Earth
ArcMap
View Footprint In:
ArcGIS Online Map Viewer
Service Description: Book 3, Map 4, Welland Canal
Name: WellandCanal/Bk3_Map4
Description: Book 3, Map 4, Welland Canal
Single Fused Map Cache: false
Extent:
XMin: 644367.4988900376
YMin: 4766838.7378719235
XMax: 645142.1710080376
YMax: 4767903.161994924
Spatial Reference: 26917
(26917)
Initial Extent:
XMin: 644367.4988900376
YMin: 4766838.7378719235
XMax: 645142.1710080376
YMax: 4767903.161994924
Spatial Reference: 26917
(26917)
Full Extent:
XMin: 644367.4988900376
YMin: 4766838.7378719235
XMax: 645142.1710080376
YMax: 4767903.161994924
Spatial Reference: 26917
(26917)
Pixel Size X: 0.1579029999999975
Pixel Size Y: 0.15790300000005245
Band Count: 3
Pixel Type: U16
RasterFunction Infos: {"rasterFunctionInfos": [{
"name": "None",
"description": "",
"help": ""
}]}
Mensuration Capabilities: Basic
Has Histograms: true
Has Colormap: false
Has Multi Dimensions : false
Rendering Rule:
Min Scale: 0
Max Scale: 0
Copyright Text:
Service Data Type: esriImageServiceDataTypeGeneric
Min Values: 41, 52, 27
Max Values: 255, 255, 255
Mean Values: 251.28721034112, 240.22827158586, 197.71026779544
Standard Deviation Values: 15.841174008854, 15.946757061979, 14.921448781058
Object ID Field:
Fields:
None
Default Mosaic Method: Center
Allowed Mosaic Methods:
SortField:
SortValue: null
Mosaic Operator: First
Default Compression Quality: 75
Default Resampling Method: Bilinear
Max Record Count: null
Max Image Height: 4100
Max Image Width: 15000
Max Download Image Count: null
Max Mosaic Image Count: null
Allow Raster Function: true
Allow Copy: true
Allow Analysis: true
Allow Compute TiePoints: false
Supports Statistics: false
Supports Advanced Queries: false
Use StandardizedQueries: true
Raster Type Infos:
Name: Raster Dataset
Description: Supports all ArcGIS Raster Datasets
Help:
Has Raster Attribute Table: false
Edit Fields Info: null
Ownership Based AccessControl For Rasters: null
Child Resources:
Info
Histograms
Statistics
Key Properties
Legend
Raster Function Infos
Supported Operations:
Export Image
Identify
Measure
Compute Histograms
Compute Statistics Histograms
Get Samples
Compute Class Statistics
Query Boundary
Compute Pixel Location
Compute Angles
Validate
Project