View In:
ArcGIS JavaScript
ArcGIS Online Map Viewer
ArcGIS Earth
ArcMap
View Footprint In:
ArcGIS Online Map Viewer
Service Description: Book 3, Map 5, Welland Canal
Name: WellandCanal/Bk3_Map5
Description: Book 3, Map 5, Welland Canal
Single Fused Map Cache: false
Extent:
XMin: 644959.1337469335
YMin: 4765477.308958114
XMax: 645685.9650909335
YMax: 4766478.120482114
Spatial Reference: 26917
(26917)
Initial Extent:
XMin: 644959.1337469335
YMin: 4765477.308958114
XMax: 645685.9650909335
YMax: 4766478.120482114
Spatial Reference: 26917
(26917)
Full Extent:
XMin: 644959.1337469335
YMin: 4765477.308958114
XMax: 645685.9650909335
YMax: 4766478.120482114
Spatial Reference: 26917
(26917)
Pixel Size X: 0.1493079999999892
Pixel Size Y: 0.1493080000000028
Band Count: 3
Pixel Type: U16
RasterFunction Infos: {"rasterFunctionInfos": [{
"name": "None",
"description": "",
"help": ""
}]}
Mensuration Capabilities: Basic
Has Histograms: true
Has Colormap: false
Has Multi Dimensions : false
Rendering Rule:
Min Scale: 0
Max Scale: 0
Copyright Text:
Service Data Type: esriImageServiceDataTypeGeneric
Min Values: 20, 49, 38
Max Values: 255, 255, 255
Mean Values: 248.49539776417, 237.81548671025, 193.7153072333
Standard Deviation Values: 22.709141661619, 20.382789105905, 18.300488545144
Object ID Field:
Fields:
None
Default Mosaic Method: Center
Allowed Mosaic Methods:
SortField:
SortValue: null
Mosaic Operator: First
Default Compression Quality: 75
Default Resampling Method: Bilinear
Max Record Count: null
Max Image Height: 4100
Max Image Width: 15000
Max Download Image Count: null
Max Mosaic Image Count: null
Allow Raster Function: true
Allow Copy: true
Allow Analysis: true
Allow Compute TiePoints: false
Supports Statistics: false
Supports Advanced Queries: false
Use StandardizedQueries: true
Raster Type Infos:
Name: Raster Dataset
Description: Supports all ArcGIS Raster Datasets
Help:
Has Raster Attribute Table: false
Edit Fields Info: null
Ownership Based AccessControl For Rasters: null
Child Resources:
Info
Histograms
Statistics
Key Properties
Legend
Raster Function Infos
Supported Operations:
Export Image
Identify
Measure
Compute Histograms
Compute Statistics Histograms
Get Samples
Compute Class Statistics
Query Boundary
Compute Pixel Location
Compute Angles
Validate
Project