View In:
ArcGIS JavaScript
ArcGIS Online Map Viewer
ArcGIS Earth
ArcMap
View Footprint In:
ArcGIS Online Map Viewer
Service Description: Book 3, Map 6, Welland Canal
Name: WellandCanal/Bk3_Map6
Description: Book 3, Map 6, Welland Canal
Single Fused Map Cache: false
Extent:
XMin: 644137.5483125816
YMin: 4764933.48469756
XMax: 645264.7994545816
YMax: 4766350.07352456
Spatial Reference: 26917
(26917)
Initial Extent:
XMin: 644137.5483125816
YMin: 4764933.48469756
XMax: 645264.7994545816
YMax: 4766350.07352456
Spatial Reference: 26917
(26917)
Full Extent:
XMin: 644137.5483125816
YMin: 4764933.48469756
XMax: 645264.7994545816
YMax: 4766350.07352456
Spatial Reference: 26917
(26917)
Pixel Size X: 0.21196899999999336
Pixel Size Y: 0.21196899999999994
Band Count: 3
Pixel Type: U16
RasterFunction Infos: {"rasterFunctionInfos": [{
"name": "None",
"description": "",
"help": ""
}]}
Mensuration Capabilities: Basic
Has Histograms: true
Has Colormap: false
Has Multi Dimensions : false
Rendering Rule:
Min Scale: 0
Max Scale: 0
Copyright Text:
Service Data Type: esriImageServiceDataTypeGeneric
Min Values: 0, 0, 0
Max Values: 255, 255, 255
Mean Values: 248.50346194996, 238.52988271644, 189.20404903045
Standard Deviation Values: 29.843398433621, 28.53376022555, 25.127119166643
Object ID Field:
Fields:
None
Default Mosaic Method: Center
Allowed Mosaic Methods:
SortField:
SortValue: null
Mosaic Operator: First
Default Compression Quality: 75
Default Resampling Method: Bilinear
Max Record Count: null
Max Image Height: 4100
Max Image Width: 15000
Max Download Image Count: null
Max Mosaic Image Count: null
Allow Raster Function: true
Allow Copy: true
Allow Analysis: true
Allow Compute TiePoints: false
Supports Statistics: false
Supports Advanced Queries: false
Use StandardizedQueries: true
Raster Type Infos:
Name: Raster Dataset
Description: Supports all ArcGIS Raster Datasets
Help:
Has Raster Attribute Table: false
Edit Fields Info: null
Ownership Based AccessControl For Rasters: null
Child Resources:
Info
Histograms
Statistics
Key Properties
Legend
Raster Function Infos
Supported Operations:
Export Image
Identify
Measure
Compute Histograms
Compute Statistics Histograms
Get Samples
Compute Class Statistics
Query Boundary
Compute Pixel Location
Compute Angles
Validate
Project