View In:
ArcGIS JavaScript
ArcGIS Online Map Viewer
ArcGIS Earth
ArcMap
View Footprint In:
ArcGIS Online Map Viewer
Service Description: Book 3, Map 7, Welland Canal
Name: WellandCanal/Bk3_Map7
Description: Book 3, Map 7, Welland Canal
Single Fused Map Cache: false
Extent:
XMin: 643490.7533158424
YMin: 4764723.835497741
XMax: 644591.9643358424
YMax: 4766197.427097741
Spatial Reference: 26917
(26917)
Initial Extent:
XMin: 643490.7533158424
YMin: 4764723.835497741
XMax: 644591.9643358424
YMax: 4766197.427097741
Spatial Reference: 26917
(26917)
Full Extent:
XMin: 643490.7533158424
YMin: 4764723.835497741
XMax: 644591.9643358424
YMax: 4766197.427097741
Spatial Reference: 26917
(26917)
Pixel Size X: 0.22126000000000925
Pixel Size Y: 0.22125999999998905
Band Count: 3
Pixel Type: U16
RasterFunction Infos: {"rasterFunctionInfos": [{
"name": "None",
"description": "",
"help": ""
}]}
Mensuration Capabilities: Basic
Has Histograms: true
Has Colormap: false
Has Multi Dimensions : false
Rendering Rule:
Min Scale: 0
Max Scale: 0
Copyright Text:
Service Data Type: esriImageServiceDataTypeGeneric
Min Values: 19, 49, 29
Max Values: 255, 255, 255
Mean Values: 251.70917419512, 242.57434790256, 200.05905322664
Standard Deviation Values: 16.139204182981, 15.13041541484, 14.131181426171
Object ID Field:
Fields:
None
Default Mosaic Method: Center
Allowed Mosaic Methods:
SortField:
SortValue: null
Mosaic Operator: First
Default Compression Quality: 75
Default Resampling Method: Bilinear
Max Record Count: null
Max Image Height: 4100
Max Image Width: 15000
Max Download Image Count: null
Max Mosaic Image Count: null
Allow Raster Function: true
Allow Copy: true
Allow Analysis: true
Allow Compute TiePoints: false
Supports Statistics: false
Supports Advanced Queries: false
Use StandardizedQueries: true
Raster Type Infos:
Name: Raster Dataset
Description: Supports all ArcGIS Raster Datasets
Help:
Has Raster Attribute Table: false
Edit Fields Info: null
Ownership Based AccessControl For Rasters: null
Child Resources:
Info
Histograms
Statistics
Key Properties
Legend
Raster Function Infos
Supported Operations:
Export Image
Identify
Measure
Compute Histograms
Compute Statistics Histograms
Get Samples
Compute Class Statistics
Query Boundary
Compute Pixel Location
Compute Angles
Validate
Project