View In:
ArcGIS JavaScript
ArcGIS Online Map Viewer
ArcGIS Earth
ArcMap
View Footprint In:
ArcGIS Online Map Viewer
Service Description: Book 3, Map 8, Welland Canal
Name: WellandCanal/Bk3_Map8
Description: Book 3, Map 8, Welland Canal
Single Fused Map Cache: false
Extent:
XMin: 643049.3643610995
YMin: 4764387.781962361
XMax: 644085.8020010996
YMax: 4765864.705599361
Spatial Reference: 26917
(26917)
Initial Extent:
XMin: 643049.3643610995
YMin: 4764387.781962361
XMax: 644085.8020010996
YMax: 4765864.705599361
Spatial Reference: 26917
(26917)
Full Extent:
XMin: 643049.3643610995
YMin: 4764387.781962361
XMax: 644085.8020010996
YMax: 4765864.705599361
Spatial Reference: 26917
(26917)
Pixel Size X: 0.21773900000000385
Pixel Size Y: 0.2177389999999871
Band Count: 3
Pixel Type: U16
RasterFunction Infos: {"rasterFunctionInfos": [{
"name": "None",
"description": "",
"help": ""
}]}
Mensuration Capabilities: Basic
Has Histograms: true
Has Colormap: false
Has Multi Dimensions : false
Rendering Rule:
Min Scale: 0
Max Scale: 0
Copyright Text:
Service Data Type: esriImageServiceDataTypeGeneric
Min Values: 16, 47, 28
Max Values: 255, 255, 255
Mean Values: 250.20120286577, 239.59065476491, 196.12407115554
Standard Deviation Values: 19.31117361142, 17.704677323516, 16.356802183613
Object ID Field:
Fields:
None
Default Mosaic Method: Center
Allowed Mosaic Methods:
SortField:
SortValue: null
Mosaic Operator: First
Default Compression Quality: 75
Default Resampling Method: Bilinear
Max Record Count: null
Max Image Height: 4100
Max Image Width: 15000
Max Download Image Count: null
Max Mosaic Image Count: null
Allow Raster Function: true
Allow Copy: true
Allow Analysis: true
Allow Compute TiePoints: false
Supports Statistics: false
Supports Advanced Queries: false
Use StandardizedQueries: true
Raster Type Infos:
Name: Raster Dataset
Description: Supports all ArcGIS Raster Datasets
Help:
Has Raster Attribute Table: false
Edit Fields Info: null
Ownership Based AccessControl For Rasters: null
Child Resources:
Info
Histograms
Statistics
Key Properties
Legend
Raster Function Infos
Supported Operations:
Export Image
Identify
Measure
Compute Histograms
Compute Statistics Histograms
Get Samples
Compute Class Statistics
Query Boundary
Compute Pixel Location
Compute Angles
Validate
Project