View In:
ArcGIS JavaScript
ArcGIS Online Map Viewer
ArcGIS Earth
ArcMap
View Footprint In:
ArcGIS Online Map Viewer
Service Description: DEM from NPCA clipped to the extent of the Shickluna study area.
Name: WellandCanal/DEM_Shickluna
Description: DEM from NPCA clipped to the extent of the Shickluna study area.
Single Fused Map Cache: false
Extent:
XMin: 641735
YMin: 4778722.163677646
XMax: 643345
YMax: 4780022.163677646
Spatial Reference: 26917
(26917)
Initial Extent:
XMin: 641735
YMin: 4778722.163677646
XMax: 643345
YMax: 4780022.163677646
Spatial Reference: 26917
(26917)
Full Extent:
XMin: 641735
YMin: 4778722.163677646
XMax: 643345
YMax: 4780022.163677646
Spatial Reference: 26917
(26917)
Pixel Size X: 5.0
Pixel Size Y: 5.0
Band Count: 1
Pixel Type: F32
RasterFunction Infos: {"rasterFunctionInfos": [{
"name": "None",
"description": "",
"help": ""
}]}
Mensuration Capabilities: Basic
Has Histograms: true
Has Colormap: false
Has Multi Dimensions : false
Rendering Rule:
Min Scale: 0
Max Scale: 0
Copyright Text:
Service Data Type: esriImageServiceDataTypeGeneric
Min Values: 81.40879821777344
Max Values: 111.92117309570312
Mean Values: 101.32572779103546
Standard Deviation Values: 8.811791983593121
Object ID Field:
Fields:
None
Default Mosaic Method: Center
Allowed Mosaic Methods:
SortField:
SortValue: null
Mosaic Operator: First
Default Compression Quality: 75
Default Resampling Method: Bilinear
Max Record Count: null
Max Image Height: 4100
Max Image Width: 15000
Max Download Image Count: null
Max Mosaic Image Count: null
Allow Raster Function: true
Allow Copy: true
Allow Analysis: true
Allow Compute TiePoints: false
Supports Statistics: false
Supports Advanced Queries: false
Use StandardizedQueries: true
Raster Type Infos:
Name: Raster Dataset
Description: Supports all ArcGIS Raster Datasets
Help:
Has Raster Attribute Table: false
Edit Fields Info: null
Ownership Based AccessControl For Rasters: null
Child Resources:
Info
Histograms
Statistics
Key Properties
Legend
Raster Function Infos
Supported Operations:
Export Image
Identify
Measure
Compute Histograms
Compute Statistics Histograms
Get Samples
Compute Class Statistics
Query Boundary
Compute Pixel Location
Compute Angles
Validate
Project