View In:
ArcGIS JavaScript
ArcGIS Online Map Viewer
ArcGIS Earth
ArcMap
View Footprint In:
ArcGIS Online Map Viewer
Service Description: Historical map showing the First and Second Welland Canal, locks, lift elevations, townships, roads, towing paths and bridges.
Digital reproduction of map (59 x 549 cm.) in the Public Archives of Canada. National Map Collection. Library and Archives Canada.
Relief shown by shading.
Georeferenced and modified from LAC e011168620 by Map, Data and GIS Library, Brock University.
Name: WellandCanal/WC1837NMC11848_a1
Description: Historical map showing the First and Second Welland Canal, locks, lift elevations, townships, roads, towing paths and bridges.
Digital reproduction of map (59 x 549 cm.) in the Public Archives of Canada. National Map Collection. Library and Archives Canada.
Relief shown by shading.
Georeferenced and modified from LAC e011168620 by Map, Data and GIS Library, Brock University.
Single Fused Map Cache: false
Extent:
XMin: 641722.4014962794
YMin: 4747590.891909137
XMax: 644453.7664862794
YMax: 4751627.2261391375
Spatial Reference: 26917
(26917)
Initial Extent:
XMin: 641722.4014962794
YMin: 4747590.891909137
XMax: 644453.7664862794
YMax: 4751627.2261391375
Spatial Reference: 26917
(26917)
Full Extent:
XMin: 641722.4014962794
YMin: 4747590.891909137
XMax: 644453.7664862794
YMax: 4751627.2261391375
Spatial Reference: 26917
(26917)
Pixel Size X: 0.7314850000000083
Pixel Size Y: 0.7314850000000278
Band Count: 3
Pixel Type: U16
RasterFunction Infos: {"rasterFunctionInfos": [{
"name": "None",
"description": "",
"help": ""
}]}
Mensuration Capabilities: Basic
Has Histograms: true
Has Colormap: false
Has Multi Dimensions : false
Rendering Rule:
Min Scale: 0
Max Scale: 0
Copyright Text: Map, Data & GIS Library, Brock University.
Service Data Type: esriImageServiceDataTypeGeneric
Min Values: 37, 37, 31
Max Values: 251, 236, 234
Mean Values: 221.50313455508, 195.42641859993, 157.89533355715
Standard Deviation Values: 13.829112745123, 11.992128717119, 12.154106864784
Object ID Field:
Fields:
None
Default Mosaic Method: Center
Allowed Mosaic Methods:
SortField:
SortValue: null
Mosaic Operator: First
Default Compression Quality: 75
Default Resampling Method: Bilinear
Max Record Count: null
Max Image Height: 4100
Max Image Width: 15000
Max Download Image Count: null
Max Mosaic Image Count: null
Allow Raster Function: true
Allow Copy: true
Allow Analysis: true
Allow Compute TiePoints: false
Supports Statistics: false
Supports Advanced Queries: false
Use StandardizedQueries: true
Raster Type Infos:
Name: Raster Dataset
Description: Supports all ArcGIS Raster Datasets
Help:
Has Raster Attribute Table: false
Edit Fields Info: null
Ownership Based AccessControl For Rasters: null
Child Resources:
Info
Histograms
Statistics
Key Properties
Legend
Raster Function Infos
Supported Operations:
Export Image
Identify
Measure
Compute Histograms
Compute Statistics Histograms
Get Samples
Compute Class Statistics
Query Boundary
Compute Pixel Location
Compute Angles
Validate
Project