View In:
ArcGIS JavaScript
ArcGIS Online Map Viewer
ArcGIS Earth
ArcMap
View Footprint In:
ArcGIS Online Map Viewer
Service Description: Welland Canal Valley Sketch 1871
Name: WellandCanal/WC2_sketch1871_original1
Description: Welland Canal Valley Sketch 1871
Single Fused Map Cache: false
Extent:
XMin: -8898729.231697533
YMin: 5275820.09068352
XMax: -8770141.475709533
YMax: 5362240.59876352
Spatial Reference: 102100
(3857)
Initial Extent:
XMin: -8898729.231697533
YMin: 5275820.09068352
XMax: -8770141.475709533
YMax: 5362240.59876352
Spatial Reference: 102100
(3857)
Full Extent:
XMin: -8898729.231697533
YMin: 5275820.09068352
XMax: -8770141.475709533
YMax: 5362240.59876352
Spatial Reference: 102100
(3857)
Pixel Size X: 37.25021899999999
Pixel Size Y: 37.25021900000002
Band Count: 3
Pixel Type: U16
RasterFunction Infos: {"rasterFunctionInfos": [{
"name": "None",
"description": "",
"help": ""
}]}
Mensuration Capabilities: Basic
Has Histograms: true
Has Colormap: false
Has Multi Dimensions : false
Rendering Rule:
Min Scale: 1155581.108577
Max Scale: 36111.909643
Copyright Text:
Service Data Type: esriImageServiceDataTypeGeneric
Min Values: 0, 0, 0
Max Values: 255, 255, 255
Mean Values: 113.25616783874, 113.25616783874, 113.25616783874
Standard Deviation Values: 72.73523591776, 72.73523591776, 72.73523591776
Object ID Field:
Fields:
None
Default Mosaic Method: Center
Allowed Mosaic Methods:
SortField:
SortValue: null
Mosaic Operator: First
Default Compression Quality: 75
Default Resampling Method: Bilinear
Max Record Count: null
Max Image Height: 4100
Max Image Width: 15000
Max Download Image Count: null
Max Mosaic Image Count: null
Allow Raster Function: true
Allow Copy: true
Allow Analysis: true
Allow Compute TiePoints: false
Supports Statistics: false
Supports Advanced Queries: false
Use StandardizedQueries: true
Raster Type Infos:
Name: Raster Dataset
Description: Supports all ArcGIS Raster Datasets
Help:
Has Raster Attribute Table: false
Edit Fields Info: null
Ownership Based AccessControl For Rasters: null
Child Resources:
Info
Histograms
Statistics
Key Properties
Legend
Raster Function Infos
Supported Operations:
Export Image
Identify
Measure
Compute Histograms
Compute Statistics Histograms
Get Samples
Compute Class Statistics
Query Boundary
Compute Pixel Location
Compute Angles
Validate
Project