View In:
ArcGIS JavaScript
ArcGIS Online Map Viewer
ArcGIS Earth
ArcMap
View Footprint In:
ArcGIS Online Map Viewer
Service Description: Map Date: Published 1970 with information reflecting from 1829 to 1845
Digital reproduction of map (29 x 39 cm.) in the Map, Data and GIS Library, Brock University.
Georeferenced and modified from Brock call# G 3462 W45 1829 N53 no.3, by Map, Data and GIS Library, Brock University.
Name: WellandCanal/WellandCanal1829_1845Merritton
Description: Map Date: Published 1970 with information reflecting from 1829 to 1845
Digital reproduction of map (29 x 39 cm.) in the Map, Data and GIS Library, Brock University.
Georeferenced and modified from Brock call# G 3462 W45 1829 N53 no.3, by Map, Data and GIS Library, Brock University.
Single Fused Map Cache: false
Extent:
XMin: 644509.9402054381
YMin: 4776681.738338254
XMax: 646622.068179438
YMax: 4778245.022600254
Spatial Reference: 26917
(26917)
Initial Extent:
XMin: 644509.9402054381
YMin: 4776681.738338254
XMax: 646622.068179438
YMax: 4778245.022600254
Spatial Reference: 26917
(26917)
Full Extent:
XMin: 644509.9402054381
YMin: 4776681.738338254
XMax: 646622.068179438
YMax: 4778245.022600254
Spatial Reference: 26917
(26917)
Pixel Size X: 0.418325999999989
Pixel Size Y: 0.41832599999990683
Band Count: 3
Pixel Type: U16
RasterFunction Infos: {"rasterFunctionInfos": [{
"name": "None",
"description": "",
"help": ""
}]}
Mensuration Capabilities: Basic
Has Histograms: true
Has Colormap: false
Has Multi Dimensions : false
Rendering Rule:
Min Scale: 0
Max Scale: 0
Copyright Text: Map, Data & GIS Library, Brock University.
Service Data Type: esriImageServiceDataTypeGeneric
Min Values: 1, 1, 1
Max Values: 255, 255, 255
Mean Values: 227.2610843902, 227.2610843902, 227.2610843902
Standard Deviation Values: 46.351248621172, 46.351248621172, 46.351248621172
Object ID Field:
Fields:
None
Default Mosaic Method: Center
Allowed Mosaic Methods:
SortField:
SortValue: null
Mosaic Operator: First
Default Compression Quality: 75
Default Resampling Method: Bilinear
Max Record Count: null
Max Image Height: 4100
Max Image Width: 15000
Max Download Image Count: null
Max Mosaic Image Count: null
Allow Raster Function: true
Allow Copy: true
Allow Analysis: true
Allow Compute TiePoints: false
Supports Statistics: false
Supports Advanced Queries: false
Use StandardizedQueries: true
Raster Type Infos:
Name: Raster Dataset
Description: Supports all ArcGIS Raster Datasets
Help:
Has Raster Attribute Table: false
Edit Fields Info: null
Ownership Based AccessControl For Rasters: null
Child Resources:
Info
Histograms
Statistics
Key Properties
Legend
Raster Function Infos
Supported Operations:
Export Image
Identify
Measure
Compute Histograms
Compute Statistics Histograms
Get Samples
Compute Class Statistics
Query Boundary
Compute Pixel Location
Compute Angles
Validate
Project