View In:
ArcGIS JavaScript
ArcGIS Online Map Viewer
ArcGIS Earth
ArcMap
View Footprint In:
ArcGIS Online Map Viewer
Service Description: Title on map: St. Catharines Second Welland Canal Period.
Digital reproduction of map in the Map, Data and GIS Library, Brock University.
Map date: Produced approx. 1980, with information as of 1845
Georeferenced and modified from Brock call # G 3462 W45 1829 N3 no.10, by Map, Data and GIS Library, Brock University.
Name: WellandCanal/WellandCanal1845Lock3_4
Description: Title on map: St. Catharines Second Welland Canal Period.
Digital reproduction of map in the Map, Data and GIS Library, Brock University.
Map date: Produced approx. 1980, with information as of 1845
Georeferenced and modified from Brock call # G 3462 W45 1829 N3 no.10, by Map, Data and GIS Library, Brock University.
Single Fused Map Cache: false
Extent:
XMin: 642281.1318399672
YMin: 4778771.189022497
XMax: 643445.3363439672
YMax: 4780410.640902497
Spatial Reference: 26917
(26917)
Initial Extent:
XMin: 642281.1318399672
YMin: 4778771.189022497
XMax: 643445.3363439672
YMax: 4780410.640902497
Spatial Reference: 26917
(26917)
Full Extent:
XMin: 642281.1318399672
YMin: 4778771.189022497
XMax: 643445.3363439672
YMax: 4780410.640902497
Spatial Reference: 26917
(26917)
Pixel Size X: 0.16840800000000333
Pixel Size Y: 0.16840799999995895
Band Count: 1
Pixel Type: U16
RasterFunction Infos: {"rasterFunctionInfos": [{
"name": "None",
"description": "",
"help": ""
}]}
Mensuration Capabilities: Basic
Has Histograms: true
Has Colormap: false
Has Multi Dimensions : false
Rendering Rule:
Min Scale: 0
Max Scale: 0
Copyright Text: Map, Data & GIS Library, Brock University.
Service Data Type: esriImageServiceDataTypeGeneric
Min Values: 23
Max Values: 255
Mean Values: 234.80466100993
Standard Deviation Values: 27.766676732044
Object ID Field:
Fields:
None
Default Mosaic Method: Center
Allowed Mosaic Methods:
SortField:
SortValue: null
Mosaic Operator: First
Default Compression Quality: 75
Default Resampling Method: Bilinear
Max Record Count: null
Max Image Height: 4100
Max Image Width: 15000
Max Download Image Count: null
Max Mosaic Image Count: null
Allow Raster Function: true
Allow Copy: true
Allow Analysis: true
Allow Compute TiePoints: false
Supports Statistics: false
Supports Advanced Queries: false
Use StandardizedQueries: true
Raster Type Infos:
Name: Raster Dataset
Description: Supports all ArcGIS Raster Datasets
Help:
Has Raster Attribute Table: false
Edit Fields Info: null
Ownership Based AccessControl For Rasters: null
Child Resources:
Info
Histograms
Statistics
Key Properties
Legend
Raster Function Infos
Supported Operations:
Export Image
Identify
Measure
Compute Histograms
Compute Statistics Histograms
Get Samples
Compute Class Statistics
Query Boundary
Compute Pixel Location
Compute Angles
Validate
Project