View In:
ArcGIS JavaScript
ArcGIS Online Map Viewer
ArcGIS Earth
ArcMap
View Footprint In:
ArcGIS Online Map Viewer
Service Description: Physiography of Niagara
Name: physiography
Description: Physiography of Niagara
Single Fused Map Cache: false
Extent:
XMin: 595296.3956013154
YMin: 4735155.867586749
XMax: 672685.7886333154
YMax: 4798723.911370749
Spatial Reference: 26917
(26917)
Initial Extent:
XMin: 595296.3956013154
YMin: 4735155.867586749
XMax: 672685.7886333154
YMax: 4798723.911370749
Spatial Reference: 26917
(26917)
Full Extent:
XMin: 595296.3956013154
YMin: 4735155.867586749
XMax: 672685.7886333154
YMax: 4798723.911370749
Spatial Reference: 26917
(26917)
Pixel Size X: 50.813783999999956
Pixel Size Y: 50.813783999999984
Band Count: 4
Pixel Type: U16
RasterFunction Infos: {"rasterFunctionInfos": [{
"name": "None",
"description": "",
"help": ""
}]}
Mensuration Capabilities: Basic
Has Histograms: true
Has Colormap: false
Has Multi Dimensions : false
Rendering Rule:
Min Scale: 0
Max Scale: 0
Copyright Text:
Service Data Type: esriImageServiceDataTypeGeneric
Min Values: 0, 0, 0, 255
Max Values: 255, 255, 255, 255
Mean Values: 239.76553631164, 239.76566953457, 239.76566953457, 255
Standard Deviation Values: 52.215673524412, 52.215618323542, 52.215618323542, 0
Object ID Field:
Fields:
None
Default Mosaic Method: Center
Allowed Mosaic Methods:
SortField:
SortValue: null
Mosaic Operator: First
Default Compression Quality: 75
Default Resampling Method: Bilinear
Max Record Count: null
Max Image Height: 4100
Max Image Width: 15000
Max Download Image Count: null
Max Mosaic Image Count: null
Allow Raster Function: true
Allow Copy: true
Allow Analysis: true
Allow Compute TiePoints: false
Supports Statistics: false
Supports Advanced Queries: false
Use StandardizedQueries: true
Raster Type Infos:
Name: Raster Dataset
Description: Supports all ArcGIS Raster Datasets
Help:
Has Raster Attribute Table: false
Edit Fields Info: null
Ownership Based AccessControl For Rasters: null
Child Resources:
Info
Histograms
Statistics
Key Properties
Legend
Raster Function Infos
Supported Operations:
Export Image
Identify
Measure
Compute Histograms
Compute Statistics Histograms
Get Samples
Compute Class Statistics
Query Boundary
Compute Pixel Location
Compute Angles
Validate
Project