View In:
ArcGIS JavaScript
ArcGIS Online Map Viewer
ArcGIS Earth
ArcMap
View Footprint In:
ArcGIS Online Map Viewer
Service Description: DigitalDisruptions/Acadie1768_tif
Name: DigitalDisruptions/Acadie1768_tif
Description:
Single Fused Map Cache: false
Extent:
XMin: -7454851.079970942
YMin: 5363934.012706321
XMax: -6600333.336703929
YMax: 5991338.835794487
Spatial Reference: 102100
(3857)
Initial Extent:
XMin: -7454851.079970942
YMin: 5363934.012706321
XMax: -6600333.336703929
YMax: 5991338.835794487
Spatial Reference: 102100
(3857)
Full Extent:
XMin: -7454851.079970942
YMin: 5363934.012706321
XMax: -6600333.336703929
YMax: 5991338.835794487
Spatial Reference: 102100
(3857)
Pixel Size X: 61.49821829917328
Pixel Size Y: 61.49821829917333
Band Count: 3
Pixel Type: U8
RasterFunction Infos: {"rasterFunctionInfos": [{
"name": "None",
"description": "",
"help": ""
}]}
Mensuration Capabilities: Basic
Has Histograms: true
Has Colormap: false
Has Multi Dimensions : false
Rendering Rule:
Min Scale: 0
Max Scale: 0
Copyright Text:
Service Data Type: esriImageServiceDataTypeRGB
Min Values: 0, 0, 0
Max Values: 255, 255, 255
Mean Values: 205.98586702616, 179.38897332544, 139.02859424227
Standard Deviation Values: 52.767654620825, 45.967587349753, 33.798427929971
Object ID Field:
Fields:
None
Default Mosaic Method: Center
Allowed Mosaic Methods:
SortField:
SortValue: null
Mosaic Operator: First
Default Compression Quality: 75
Default Resampling Method: Bilinear
Max Record Count: null
Max Image Height: 4100
Max Image Width: 15000
Max Download Image Count: null
Max Mosaic Image Count: null
Allow Raster Function: true
Allow Copy: true
Allow Analysis: true
Allow Compute TiePoints: false
Supports Statistics: false
Supports Advanced Queries: false
Use StandardizedQueries: true
Raster Type Infos:
Name: Raster Dataset
Description: Supports all ArcGIS Raster Datasets
Help:
Has Raster Attribute Table: false
Edit Fields Info: null
Ownership Based AccessControl For Rasters: null
Child Resources:
Info
Histograms
Statistics
Key Properties
Legend
Raster Function Infos
Supported Operations:
Export Image
Identify
Measure
Compute Histograms
Compute Statistics Histograms
Get Samples
Compute Class Statistics
Query Boundary
Compute Pixel Location
Compute Angles
Validate
Project